BEGIN:VCALENDAR
VERSION:2.0
PRODID:-//SF Children &amp; Nature - ECPv6.15.17//NONSGML v1.0//EN
CALSCALE:GREGORIAN
METHOD:PUBLISH
X-WR-CALNAME:SF Children &amp; Nature
X-ORIGINAL-URL:https://sfchildrennature.org
X-WR-CALDESC:Events for SF Children &amp; Nature
REFRESH-INTERVAL;VALUE=DURATION:PT1H
X-Robots-Tag:noindex
X-PUBLISHED-TTL:PT1H
BEGIN:VTIMEZONE
TZID:America/Los_Angeles
BEGIN:DAYLIGHT
TZOFFSETFROM:-0800
TZOFFSETTO:-0700
TZNAME:PDT
DTSTART:20220313T100000
END:DAYLIGHT
BEGIN:STANDARD
TZOFFSETFROM:-0700
TZOFFSETTO:-0800
TZNAME:PST
DTSTART:20221106T090000
END:STANDARD
BEGIN:DAYLIGHT
TZOFFSETFROM:-0800
TZOFFSETTO:-0700
TZNAME:PDT
DTSTART:20230312T100000
END:DAYLIGHT
BEGIN:STANDARD
TZOFFSETFROM:-0700
TZOFFSETTO:-0800
TZNAME:PST
DTSTART:20231105T090000
END:STANDARD
BEGIN:DAYLIGHT
TZOFFSETFROM:-0800
TZOFFSETTO:-0700
TZNAME:PDT
DTSTART:20240310T100000
END:DAYLIGHT
BEGIN:STANDARD
TZOFFSETFROM:-0700
TZOFFSETTO:-0800
TZNAME:PST
DTSTART:20241103T090000
END:STANDARD
BEGIN:DAYLIGHT
TZOFFSETFROM:-0800
TZOFFSETTO:-0700
TZNAME:PDT
DTSTART:20250309T100000
END:DAYLIGHT
BEGIN:STANDARD
TZOFFSETFROM:-0700
TZOFFSETTO:-0800
TZNAME:PST
DTSTART:20251102T090000
END:STANDARD
BEGIN:DAYLIGHT
TZOFFSETFROM:-0800
TZOFFSETTO:-0700
TZNAME:PDT
DTSTART:20260308T100000
END:DAYLIGHT
BEGIN:STANDARD
TZOFFSETFROM:-0700
TZOFFSETTO:-0800
TZNAME:PST
DTSTART:20261101T090000
END:STANDARD
END:VTIMEZONE
BEGIN:VEVENT
DTSTART;TZID=America/Los_Angeles:20251115T100000
DTEND;TZID=America/Los_Angeles:20251115T120000
DTSTAMP:20260425T045045
CREATED:20251101T232202Z
LAST-MODIFIED:20251101T232202Z
UID:10005038-1763200800-1763208000@sfchildrennature.org
SUMMARY:Help Nature Thrive at Heron’s Head Park!
DESCRIPTION:Come out for a hands-on volunteer day caring for the habitats and Nature Exploration Area at Heron’s Head Park. Together\, we’ll help restore this beautiful bayside ecosystem by planting natives\, removing invasive species\, and tending to the park’s interactive nature play spaces. \nIt’s a fun\, family-friendly way to connect with nature\, learn about local wildlife\, and make a real difference for San Francisco’s shoreline! Tools and gloves are provided—just bring your curiosity and willingness to get a little dirty. \nLearn more and sign up > 
URL:https://sfchildrennature.org/event/help-nature-thrive-at-herons-head-park/
LOCATION:The EcoCenter at Heron’s Head Park\, 32 Jennings Street\, San Francisco\, CA\, 94124\, United States
CATEGORIES:For Families,For Teens,Service Project
ATTACH;FMTTYPE=image/png:https://sfchildrennature.org/wp-content/uploads/Screenshot-2025-11-01-at-4.20.00-PM.png
GEO:37.7396721;-122.3753293
X-APPLE-STRUCTURED-LOCATION;VALUE=URI;X-ADDRESS=The EcoCenter at Heron’s Head Park 32 Jennings Street San Francisco CA 94124 United States;X-APPLE-RADIUS=500;X-TITLE=32 Jennings Street:geo:-122.3753293,37.7396721
END:VEVENT
BEGIN:VEVENT
DTSTART;TZID=America/Los_Angeles:20250426T100000
DTEND;TZID=America/Los_Angeles:20250426T130000
DTSTAMP:20260425T045045
CREATED:20250408T202747Z
LAST-MODIFIED:20250409T180012Z
UID:10003248-1745661600-1745672400@sfchildrennature.org
SUMMARY:EcoCenter 15th Anniversary
DESCRIPTION:Join SF Recreation & Parks at Heron’s Head Park for the EcoCenter’s 15th Anniversary & Earth Month Celebration on Saturday\, April 26th from 10am- 1pm. Enjoy free games\, activities\, workshops\, refreshments and so much more. RSVP HERE to participate in the event. \nIn addition\, if you would like to get your hands dirty in a volunteer planting project on this day\, click HERE to sign up.
URL:https://sfchildrennature.org/event/ecocenter-15th-anniversary/
LOCATION:The EcoCenter at Heron’s Head Park\, 32 Jennings Street\, San Francisco\, CA\, 94124\, United States
CATEGORIES:Create-with-Nature,For Families,For Tots,Service Project
ATTACH;FMTTYPE=image/jpeg:https://sfchildrennature.org/wp-content/uploads/Document-1.jpg
ORGANIZER;CN="San Francisco Recreation & Parks":MAILTO:rpdinfo@sfgov.org
GEO:37.7396721;-122.3753293
X-APPLE-STRUCTURED-LOCATION;VALUE=URI;X-ADDRESS=The EcoCenter at Heron’s Head Park 32 Jennings Street San Francisco CA 94124 United States;X-APPLE-RADIUS=500;X-TITLE=32 Jennings Street:geo:-122.3753293,37.7396721
END:VEVENT
BEGIN:VEVENT
DTSTART;TZID=America/Los_Angeles:20240430T100000
DTEND;TZID=America/Los_Angeles:20240430T120000
DTSTAMP:20260425T045045
CREATED:20240411T022349Z
LAST-MODIFIED:20240416T003230Z
UID:10000008-1714471200-1714478400@sfchildrennature.org
SUMMARY:Explore and Learn @ EcoCenter
DESCRIPTION:Explore and Learn is a program for preschoolers and their caregivers to connect with nature through stories and outdoor activities. The event is FREE and Bayview Pre-K youth\, daycares and families are highly encouraged to attend from 10AM – noon. Older siblings are welcome too. \nPlease register here > \nFor more information contact EcoCenter staff at ecocenterhhp@sfgov.org or (415) 676-1394.
URL:https://sfchildrennature.org/event/explore-and-learn-ecocenter-3/
LOCATION:The EcoCenter at Heron’s Head Park\, 32 Jennings Street\, San Francisco\, CA\, 94124\, United States
CATEGORIES:For Families,For Preschools and FCCs,For Tots,Nature Play
ATTACH;FMTTYPE=image/png:https://sfchildrennature.org/wp-content/uploads/2023_2024-Explore-and-Learn-English.png
ORGANIZER;CN="EcoCenter at Heron's Head Park":MAILTO:ecocenterhhp@sfgov.org
GEO:37.7396721;-122.3753293
X-APPLE-STRUCTURED-LOCATION;VALUE=URI;X-ADDRESS=The EcoCenter at Heron’s Head Park 32 Jennings Street San Francisco CA 94124 United States;X-APPLE-RADIUS=500;X-TITLE=32 Jennings Street:geo:-122.3753293,37.7396721
END:VEVENT
BEGIN:VEVENT
DTSTART;TZID=America/Los_Angeles:20240427T100000
DTEND;TZID=America/Los_Angeles:20240427T140000
DTSTAMP:20260425T045045
CREATED:20240411T021723Z
LAST-MODIFIED:20240416T022005Z
UID:10002521-1714212000-1714226400@sfchildrennature.org
SUMMARY:The EcoCenter's 14th Anniversary Volunteer Day and Celebration
DESCRIPTION:Join the SF Port\, SF Rec & Park and the EcoCenter team for this volunteer event with activities\, games\, workshops & more \nThe EcoCenter at Heron’s Head Park is celebrating its 14th Anniversary along with Earth Month. \nCome out for a day of volunteering\, activities\, games workshops and more. \nClick here to sign up! 
URL:https://sfchildrennature.org/event/the-ecocenters-14th-anniversary-volunteer-day-and-celebration/
LOCATION:The EcoCenter at Heron’s Head Park\, 32 Jennings Street\, San Francisco\, CA\, 94124\, United States
CATEGORIES:For Families
ATTACH;FMTTYPE=image/jpeg:https://sfchildrennature.org/wp-content/uploads/EC-Anniversary-Flyer-1.jpg
ORGANIZER;CN="EcoCenter at Heron's Head Park":MAILTO:ecocenterhhp@sfgov.org
GEO:37.7396721;-122.3753293
X-APPLE-STRUCTURED-LOCATION;VALUE=URI;X-ADDRESS=The EcoCenter at Heron’s Head Park 32 Jennings Street San Francisco CA 94124 United States;X-APPLE-RADIUS=500;X-TITLE=32 Jennings Street:geo:-122.3753293,37.7396721
END:VEVENT
BEGIN:VEVENT
DTSTART;TZID=America/Los_Angeles:20230512T100000
DTEND;TZID=America/Los_Angeles:20230512T110000
DTSTAMP:20260425T045045
CREATED:20230118T004359Z
LAST-MODIFIED:20230406T004057Z
UID:10000019-1683885600-1683889200@sfchildrennature.org
SUMMARY:Storytime Legends @ EcoCenter
DESCRIPTION:Storytime legends engage children 3 to 7 years old and their families. Come in and enjoy a book reading with a corresponding hands-on activity. The event is FREE and Bayview Pre-K youth and daycares are highly encouraged to attend. \nMust register. Sign up here > \nSee program flyer >  \nFor more information contact EcoCenter staff at ecocenterhhp@sfgov.org or (415) 676-1394.
URL:https://sfchildrennature.org/event/storytime-legends-ecocenter/2023-05-12/
LOCATION:The EcoCenter at Heron’s Head Park\, 32 Jennings Street\, San Francisco\, CA\, 94124\, United States
CATEGORIES:Create-with-Nature,For Families,For Preschools and FCCs,For Tots,Nature Play
ATTACH;FMTTYPE=image/jpeg:https://sfchildrennature.org/wp-content/uploads/49174290638_b68a1c0850_c.jpg
ORGANIZER;CN="EcoCenter at Heron's Head Park":MAILTO:ecocenterhhp@sfgov.org
GEO:37.7396721;-122.3753293
X-APPLE-STRUCTURED-LOCATION;VALUE=URI;X-ADDRESS=The EcoCenter at Heron’s Head Park 32 Jennings Street San Francisco CA 94124 United States;X-APPLE-RADIUS=500;X-TITLE=32 Jennings Street:geo:-122.3753293,37.7396721
END:VEVENT
BEGIN:VEVENT
DTSTART;TZID=America/Los_Angeles:20230414T100000
DTEND;TZID=America/Los_Angeles:20230414T110000
DTSTAMP:20260425T045045
CREATED:20230118T004359Z
LAST-MODIFIED:20230406T004057Z
UID:10000018-1681466400-1681470000@sfchildrennature.org
SUMMARY:Storytime Legends @ EcoCenter
DESCRIPTION:Storytime legends engage children 3 to 7 years old and their families. Come in and enjoy a book reading with a corresponding hands-on activity. The event is FREE and Bayview Pre-K youth and daycares are highly encouraged to attend. \nMust register. Sign up here > \nSee program flyer >  \nFor more information contact EcoCenter staff at ecocenterhhp@sfgov.org or (415) 676-1394.
URL:https://sfchildrennature.org/event/storytime-legends-ecocenter/2023-04-14/
LOCATION:The EcoCenter at Heron’s Head Park\, 32 Jennings Street\, San Francisco\, CA\, 94124\, United States
CATEGORIES:Create-with-Nature,For Families,For Preschools and FCCs,For Tots,Nature Play
ATTACH;FMTTYPE=image/jpeg:https://sfchildrennature.org/wp-content/uploads/49174290638_b68a1c0850_c.jpg
ORGANIZER;CN="EcoCenter at Heron's Head Park":MAILTO:ecocenterhhp@sfgov.org
GEO:37.7396721;-122.3753293
X-APPLE-STRUCTURED-LOCATION;VALUE=URI;X-ADDRESS=The EcoCenter at Heron’s Head Park 32 Jennings Street San Francisco CA 94124 United States;X-APPLE-RADIUS=500;X-TITLE=32 Jennings Street:geo:-122.3753293,37.7396721
END:VEVENT
BEGIN:VEVENT
DTSTART;TZID=America/Los_Angeles:20230328T100000
DTEND;TZID=America/Los_Angeles:20230328T120000
DTSTAMP:20260425T045045
CREATED:20230118T001751Z
LAST-MODIFIED:20230307T071857Z
UID:10000007-1679997600-1680004800@sfchildrennature.org
SUMMARY:Explore and Learn @ EcoCenter
DESCRIPTION:Explore and Learn is a program for preschoolers and their caregivers to connect with nature through stories and outdoor activities. Join us and our partners\, Edgewood Resource Center and Tandem Partners in Early Learning on the last Tuesday of every month (minus December). The event is FREE and Bayview Pre-K youth and daycares are highly encouraged to attend. \nMust register to attend. Sign up here >  \nSee program flyer >  \nFor more information contact EcoCenter staff at ecocenterhhp@sfgov.org or (415) 676-1394.
URL:https://sfchildrennature.org/event/explore-and-learn-ecocenter/2023-03-28/
LOCATION:The EcoCenter at Heron’s Head Park\, 32 Jennings Street\, San Francisco\, CA\, 94124\, United States
CATEGORIES:For Families,For Preschools and FCCs,For Tots,Nature Play
ATTACH;FMTTYPE=image/jpeg:https://sfchildrennature.org/wp-content/uploads/2021130_MDurana-2380-scaled.jpg
ORGANIZER;CN="EcoCenter at Heron's Head Park":MAILTO:ecocenterhhp@sfgov.org
GEO:37.7396721;-122.3753293
X-APPLE-STRUCTURED-LOCATION;VALUE=URI;X-ADDRESS=The EcoCenter at Heron’s Head Park 32 Jennings Street San Francisco CA 94124 United States;X-APPLE-RADIUS=500;X-TITLE=32 Jennings Street:geo:-122.3753293,37.7396721
END:VEVENT
BEGIN:VEVENT
DTSTART;TZID=America/Los_Angeles:20230310T100000
DTEND;TZID=America/Los_Angeles:20230310T110000
DTSTAMP:20260425T045045
CREATED:20230118T004359Z
LAST-MODIFIED:20230406T004057Z
UID:10000017-1678442400-1678446000@sfchildrennature.org
SUMMARY:Storytime Legends @ EcoCenter
DESCRIPTION:Storytime legends engage children 3 to 7 years old and their families. Come in and enjoy a book reading with a corresponding hands-on activity. The event is FREE and Bayview Pre-K youth and daycares are highly encouraged to attend. \nMust register. Sign up here > \nSee program flyer >  \nFor more information contact EcoCenter staff at ecocenterhhp@sfgov.org or (415) 676-1394.
URL:https://sfchildrennature.org/event/storytime-legends-ecocenter/2023-03-10/
LOCATION:The EcoCenter at Heron’s Head Park\, 32 Jennings Street\, San Francisco\, CA\, 94124\, United States
CATEGORIES:Create-with-Nature,For Families,For Preschools and FCCs,For Tots,Nature Play
ATTACH;FMTTYPE=image/jpeg:https://sfchildrennature.org/wp-content/uploads/49174290638_b68a1c0850_c.jpg
ORGANIZER;CN="EcoCenter at Heron's Head Park":MAILTO:ecocenterhhp@sfgov.org
GEO:37.7396721;-122.3753293
X-APPLE-STRUCTURED-LOCATION;VALUE=URI;X-ADDRESS=The EcoCenter at Heron’s Head Park 32 Jennings Street San Francisco CA 94124 United States;X-APPLE-RADIUS=500;X-TITLE=32 Jennings Street:geo:-122.3753293,37.7396721
END:VEVENT
BEGIN:VEVENT
DTSTART;TZID=America/Los_Angeles:20230228T100000
DTEND;TZID=America/Los_Angeles:20230228T120000
DTSTAMP:20260425T045045
CREATED:20230118T001751Z
LAST-MODIFIED:20230307T071857Z
UID:10000006-1677578400-1677585600@sfchildrennature.org
SUMMARY:Explore and Learn @ EcoCenter
DESCRIPTION:Explore and Learn is a program for preschoolers and their caregivers to connect with nature through stories and outdoor activities. Join us and our partners\, Edgewood Resource Center and Tandem Partners in Early Learning on the last Tuesday of every month (minus December). The event is FREE and Bayview Pre-K youth and daycares are highly encouraged to attend. \nMust register to attend. Sign up here >  \nSee program flyer >  \nFor more information contact EcoCenter staff at ecocenterhhp@sfgov.org or (415) 676-1394.
URL:https://sfchildrennature.org/event/explore-and-learn-ecocenter/2023-02-28/
LOCATION:The EcoCenter at Heron’s Head Park\, 32 Jennings Street\, San Francisco\, CA\, 94124\, United States
CATEGORIES:For Families,For Preschools and FCCs,For Tots,Nature Play
ATTACH;FMTTYPE=image/jpeg:https://sfchildrennature.org/wp-content/uploads/2021130_MDurana-2380-scaled.jpg
ORGANIZER;CN="EcoCenter at Heron's Head Park":MAILTO:ecocenterhhp@sfgov.org
GEO:37.7396721;-122.3753293
X-APPLE-STRUCTURED-LOCATION;VALUE=URI;X-ADDRESS=The EcoCenter at Heron’s Head Park 32 Jennings Street San Francisco CA 94124 United States;X-APPLE-RADIUS=500;X-TITLE=32 Jennings Street:geo:-122.3753293,37.7396721
END:VEVENT
BEGIN:VEVENT
DTSTART;TZID=America/Los_Angeles:20230210T100000
DTEND;TZID=America/Los_Angeles:20230210T110000
DTSTAMP:20260425T045045
CREATED:20230118T004359Z
LAST-MODIFIED:20230406T004057Z
UID:10000016-1676023200-1676026800@sfchildrennature.org
SUMMARY:Storytime Legends @ EcoCenter
DESCRIPTION:Storytime legends engage children 3 to 7 years old and their families. Come in and enjoy a book reading with a corresponding hands-on activity. The event is FREE and Bayview Pre-K youth and daycares are highly encouraged to attend. \nMust register. Sign up here > \nSee program flyer >  \nFor more information contact EcoCenter staff at ecocenterhhp@sfgov.org or (415) 676-1394.
URL:https://sfchildrennature.org/event/storytime-legends-ecocenter/2023-02-10/
LOCATION:The EcoCenter at Heron’s Head Park\, 32 Jennings Street\, San Francisco\, CA\, 94124\, United States
CATEGORIES:Create-with-Nature,For Families,For Preschools and FCCs,For Tots,Nature Play
ATTACH;FMTTYPE=image/jpeg:https://sfchildrennature.org/wp-content/uploads/49174290638_b68a1c0850_c.jpg
ORGANIZER;CN="EcoCenter at Heron's Head Park":MAILTO:ecocenterhhp@sfgov.org
GEO:37.7396721;-122.3753293
X-APPLE-STRUCTURED-LOCATION;VALUE=URI;X-ADDRESS=The EcoCenter at Heron’s Head Park 32 Jennings Street San Francisco CA 94124 United States;X-APPLE-RADIUS=500;X-TITLE=32 Jennings Street:geo:-122.3753293,37.7396721
END:VEVENT
BEGIN:VEVENT
DTSTART;TZID=America/Los_Angeles:20230131T100000
DTEND;TZID=America/Los_Angeles:20230131T120000
DTSTAMP:20260425T045045
CREATED:20230118T001751Z
LAST-MODIFIED:20230307T071857Z
UID:10000005-1675159200-1675166400@sfchildrennature.org
SUMMARY:Explore and Learn @ EcoCenter
DESCRIPTION:Explore and Learn is a program for preschoolers and their caregivers to connect with nature through stories and outdoor activities. Join us and our partners\, Edgewood Resource Center and Tandem Partners in Early Learning on the last Tuesday of every month (minus December). The event is FREE and Bayview Pre-K youth and daycares are highly encouraged to attend. \nMust register to attend. Sign up here >  \nSee program flyer >  \nFor more information contact EcoCenter staff at ecocenterhhp@sfgov.org or (415) 676-1394.
URL:https://sfchildrennature.org/event/explore-and-learn-ecocenter/2023-01-31/2/
LOCATION:The EcoCenter at Heron’s Head Park\, 32 Jennings Street\, San Francisco\, CA\, 94124\, United States
CATEGORIES:For Families,For Preschools and FCCs,For Tots,Nature Play
ATTACH;FMTTYPE=image/jpeg:https://sfchildrennature.org/wp-content/uploads/2021130_MDurana-2380-scaled.jpg
ORGANIZER;CN="EcoCenter at Heron's Head Park":MAILTO:ecocenterhhp@sfgov.org
GEO:37.7396721;-122.3753293
X-APPLE-STRUCTURED-LOCATION;VALUE=URI;X-ADDRESS=The EcoCenter at Heron’s Head Park 32 Jennings Street San Francisco CA 94124 United States;X-APPLE-RADIUS=500;X-TITLE=32 Jennings Street:geo:-122.3753293,37.7396721
END:VEVENT
BEGIN:VEVENT
DTSTART;TZID=America/Los_Angeles:20230131T080000
DTEND;TZID=America/Los_Angeles:20230131T170000
DTSTAMP:20260425T045045
CREATED:20230118T001751Z
LAST-MODIFIED:20230307T071857Z
UID:10000163-1675152000-1675184400@sfchildrennature.org
SUMMARY:Explore and Learn @ EcoCenter
DESCRIPTION:Explore and Learn is a program for preschoolers and their caregivers to connect with nature through stories and outdoor activities. Join us and our partners\, Edgewood Resource Center and Tandem Partners in Early Learning on the last Tuesday of every month (minus December). The event is FREE and Bayview Pre-K youth and daycares are highly encouraged to attend. \nMust register to attend. Sign up here >  \nSee program flyer >  \nFor more information contact EcoCenter staff at ecocenterhhp@sfgov.org or (415) 676-1394.
URL:https://sfchildrennature.org/event/explore-and-learn-ecocenter/2023-01-31/1/
LOCATION:The EcoCenter at Heron’s Head Park\, 32 Jennings Street\, San Francisco\, CA\, 94124\, United States
CATEGORIES:For Families,For Preschools and FCCs,For Tots,Nature Play
ATTACH;FMTTYPE=image/jpeg:https://sfchildrennature.org/wp-content/uploads/2021130_MDurana-2380-scaled.jpg
ORGANIZER;CN="EcoCenter at Heron's Head Park":MAILTO:ecocenterhhp@sfgov.org
GEO:37.7396721;-122.3753293
X-APPLE-STRUCTURED-LOCATION;VALUE=URI;X-ADDRESS=The EcoCenter at Heron’s Head Park 32 Jennings Street San Francisco CA 94124 United States;X-APPLE-RADIUS=500;X-TITLE=32 Jennings Street:geo:-122.3753293,37.7396721
END:VEVENT
END:VCALENDAR