BEGIN:VCALENDAR
VERSION:2.0
PRODID:-//SF Children &amp; Nature - ECPv6.15.17//NONSGML v1.0//EN
CALSCALE:GREGORIAN
METHOD:PUBLISH
X-WR-CALNAME:SF Children &amp; Nature
X-ORIGINAL-URL:https://sfchildrennature.org
X-WR-CALDESC:Events for SF Children &amp; Nature
REFRESH-INTERVAL;VALUE=DURATION:PT1H
X-Robots-Tag:noindex
X-PUBLISHED-TTL:PT1H
BEGIN:VTIMEZONE
TZID:America/Los_Angeles
BEGIN:DAYLIGHT
TZOFFSETFROM:-0800
TZOFFSETTO:-0700
TZNAME:PDT
DTSTART:20250309T100000
END:DAYLIGHT
BEGIN:STANDARD
TZOFFSETFROM:-0700
TZOFFSETTO:-0800
TZNAME:PST
DTSTART:20251102T090000
END:STANDARD
BEGIN:DAYLIGHT
TZOFFSETFROM:-0800
TZOFFSETTO:-0700
TZNAME:PDT
DTSTART:20260308T100000
END:DAYLIGHT
BEGIN:STANDARD
TZOFFSETFROM:-0700
TZOFFSETTO:-0800
TZNAME:PST
DTSTART:20261101T090000
END:STANDARD
BEGIN:DAYLIGHT
TZOFFSETFROM:-0800
TZOFFSETTO:-0700
TZNAME:PDT
DTSTART:20270314T100000
END:DAYLIGHT
BEGIN:STANDARD
TZOFFSETFROM:-0700
TZOFFSETTO:-0800
TZNAME:PST
DTSTART:20271107T090000
END:STANDARD
END:VTIMEZONE
BEGIN:VEVENT
DTSTART;TZID=America/Los_Angeles:20261010T110000
DTEND;TZID=America/Los_Angeles:20261010T120000
DTSTAMP:20260422T052542
CREATED:20250924T010312Z
LAST-MODIFIED:20251101T220542Z
UID:10004505-1791630000-1791633600@sfchildrennature.org
SUMMARY:Teen Gardening at Merced Branch Library
DESCRIPTION:De–stress and enjoy the fresh air. Garden with the Library. For ages 13–18. Note: \nThis event is cross-posted from the SF Public Library website. Please check the Library events calendar posting for full details and any cancellations.
URL:https://sfchildrennature.org/event/activity-gardening-9/2026-10-10/
LOCATION:Merced Branch Library\, 155 Winston Dr\, San Francisco\, California\, 94132\, United States
CATEGORIES:For Families,For Teens
ATTACH;FMTTYPE=image/png:https://sfchildrennature.org/wp-content/uploads/Screenshot-2025-11-01-at-3.04.59-PM.png
GEO:37.72659367;-122.4744938
X-APPLE-STRUCTURED-LOCATION;VALUE=URI;X-ADDRESS=Merced Branch Library 155 Winston Dr San Francisco California 94132 United States;X-APPLE-RADIUS=500;X-TITLE=155 Winston Dr:geo:-122.4744938,37.72659367
END:VEVENT
BEGIN:VEVENT
DTSTART;TZID=America/Los_Angeles:20261017T110000
DTEND;TZID=America/Los_Angeles:20261017T120000
DTSTAMP:20260422T052542
CREATED:20250924T010312Z
LAST-MODIFIED:20251101T220542Z
UID:10004506-1792234800-1792238400@sfchildrennature.org
SUMMARY:Teen Gardening at Merced Branch Library
DESCRIPTION:De–stress and enjoy the fresh air. Garden with the Library. For ages 13–18. Note: \nThis event is cross-posted from the SF Public Library website. Please check the Library events calendar posting for full details and any cancellations.
URL:https://sfchildrennature.org/event/activity-gardening-9/2026-10-17/
LOCATION:Merced Branch Library\, 155 Winston Dr\, San Francisco\, California\, 94132\, United States
CATEGORIES:For Families,For Teens
ATTACH;FMTTYPE=image/png:https://sfchildrennature.org/wp-content/uploads/Screenshot-2025-11-01-at-3.04.59-PM.png
GEO:37.72659367;-122.4744938
X-APPLE-STRUCTURED-LOCATION;VALUE=URI;X-ADDRESS=Merced Branch Library 155 Winston Dr San Francisco California 94132 United States;X-APPLE-RADIUS=500;X-TITLE=155 Winston Dr:geo:-122.4744938,37.72659367
END:VEVENT
BEGIN:VEVENT
DTSTART;TZID=America/Los_Angeles:20261024T110000
DTEND;TZID=America/Los_Angeles:20261024T120000
DTSTAMP:20260422T052542
CREATED:20250924T010312Z
LAST-MODIFIED:20251101T220542Z
UID:10004507-1792839600-1792843200@sfchildrennature.org
SUMMARY:Teen Gardening at Merced Branch Library
DESCRIPTION:De–stress and enjoy the fresh air. Garden with the Library. For ages 13–18. Note: \nThis event is cross-posted from the SF Public Library website. Please check the Library events calendar posting for full details and any cancellations.
URL:https://sfchildrennature.org/event/activity-gardening-9/2026-10-24/
LOCATION:Merced Branch Library\, 155 Winston Dr\, San Francisco\, California\, 94132\, United States
CATEGORIES:For Families,For Teens
ATTACH;FMTTYPE=image/png:https://sfchildrennature.org/wp-content/uploads/Screenshot-2025-11-01-at-3.04.59-PM.png
GEO:37.72659367;-122.4744938
X-APPLE-STRUCTURED-LOCATION;VALUE=URI;X-ADDRESS=Merced Branch Library 155 Winston Dr San Francisco California 94132 United States;X-APPLE-RADIUS=500;X-TITLE=155 Winston Dr:geo:-122.4744938,37.72659367
END:VEVENT
BEGIN:VEVENT
DTSTART;TZID=America/Los_Angeles:20261031T110000
DTEND;TZID=America/Los_Angeles:20261031T120000
DTSTAMP:20260422T052542
CREATED:20250924T010312Z
LAST-MODIFIED:20251101T220542Z
UID:10004508-1793444400-1793448000@sfchildrennature.org
SUMMARY:Teen Gardening at Merced Branch Library
DESCRIPTION:De–stress and enjoy the fresh air. Garden with the Library. For ages 13–18. Note: \nThis event is cross-posted from the SF Public Library website. Please check the Library events calendar posting for full details and any cancellations.
URL:https://sfchildrennature.org/event/activity-gardening-9/2026-10-31/
LOCATION:Merced Branch Library\, 155 Winston Dr\, San Francisco\, California\, 94132\, United States
CATEGORIES:For Families,For Teens
ATTACH;FMTTYPE=image/png:https://sfchildrennature.org/wp-content/uploads/Screenshot-2025-11-01-at-3.04.59-PM.png
GEO:37.72659367;-122.4744938
X-APPLE-STRUCTURED-LOCATION;VALUE=URI;X-ADDRESS=Merced Branch Library 155 Winston Dr San Francisco California 94132 United States;X-APPLE-RADIUS=500;X-TITLE=155 Winston Dr:geo:-122.4744938,37.72659367
END:VEVENT
BEGIN:VEVENT
DTSTART;TZID=America/Los_Angeles:20261107T110000
DTEND;TZID=America/Los_Angeles:20261107T120000
DTSTAMP:20260422T052542
CREATED:20250924T010312Z
LAST-MODIFIED:20251101T220542Z
UID:10004509-1794049200-1794052800@sfchildrennature.org
SUMMARY:Teen Gardening at Merced Branch Library
DESCRIPTION:De–stress and enjoy the fresh air. Garden with the Library. For ages 13–18. Note: \nThis event is cross-posted from the SF Public Library website. Please check the Library events calendar posting for full details and any cancellations.
URL:https://sfchildrennature.org/event/activity-gardening-9/2026-11-07/
LOCATION:Merced Branch Library\, 155 Winston Dr\, San Francisco\, California\, 94132\, United States
CATEGORIES:For Families,For Teens
ATTACH;FMTTYPE=image/png:https://sfchildrennature.org/wp-content/uploads/Screenshot-2025-11-01-at-3.04.59-PM.png
GEO:37.72659367;-122.4744938
X-APPLE-STRUCTURED-LOCATION;VALUE=URI;X-ADDRESS=Merced Branch Library 155 Winston Dr San Francisco California 94132 United States;X-APPLE-RADIUS=500;X-TITLE=155 Winston Dr:geo:-122.4744938,37.72659367
END:VEVENT
BEGIN:VEVENT
DTSTART;TZID=America/Los_Angeles:20261114T110000
DTEND;TZID=America/Los_Angeles:20261114T120000
DTSTAMP:20260422T052542
CREATED:20250924T010312Z
LAST-MODIFIED:20251101T220542Z
UID:10004510-1794654000-1794657600@sfchildrennature.org
SUMMARY:Teen Gardening at Merced Branch Library
DESCRIPTION:De–stress and enjoy the fresh air. Garden with the Library. For ages 13–18. Note: \nThis event is cross-posted from the SF Public Library website. Please check the Library events calendar posting for full details and any cancellations.
URL:https://sfchildrennature.org/event/activity-gardening-9/2026-11-14/
LOCATION:Merced Branch Library\, 155 Winston Dr\, San Francisco\, California\, 94132\, United States
CATEGORIES:For Families,For Teens
ATTACH;FMTTYPE=image/png:https://sfchildrennature.org/wp-content/uploads/Screenshot-2025-11-01-at-3.04.59-PM.png
GEO:37.72659367;-122.4744938
X-APPLE-STRUCTURED-LOCATION;VALUE=URI;X-ADDRESS=Merced Branch Library 155 Winston Dr San Francisco California 94132 United States;X-APPLE-RADIUS=500;X-TITLE=155 Winston Dr:geo:-122.4744938,37.72659367
END:VEVENT
BEGIN:VEVENT
DTSTART;TZID=America/Los_Angeles:20261121T110000
DTEND;TZID=America/Los_Angeles:20261121T120000
DTSTAMP:20260422T052542
CREATED:20250924T010312Z
LAST-MODIFIED:20251101T220542Z
UID:10004511-1795258800-1795262400@sfchildrennature.org
SUMMARY:Teen Gardening at Merced Branch Library
DESCRIPTION:De–stress and enjoy the fresh air. Garden with the Library. For ages 13–18. Note: \nThis event is cross-posted from the SF Public Library website. Please check the Library events calendar posting for full details and any cancellations.
URL:https://sfchildrennature.org/event/activity-gardening-9/2026-11-21/
LOCATION:Merced Branch Library\, 155 Winston Dr\, San Francisco\, California\, 94132\, United States
CATEGORIES:For Families,For Teens
ATTACH;FMTTYPE=image/png:https://sfchildrennature.org/wp-content/uploads/Screenshot-2025-11-01-at-3.04.59-PM.png
GEO:37.72659367;-122.4744938
X-APPLE-STRUCTURED-LOCATION;VALUE=URI;X-ADDRESS=Merced Branch Library 155 Winston Dr San Francisco California 94132 United States;X-APPLE-RADIUS=500;X-TITLE=155 Winston Dr:geo:-122.4744938,37.72659367
END:VEVENT
BEGIN:VEVENT
DTSTART;TZID=America/Los_Angeles:20261128T110000
DTEND;TZID=America/Los_Angeles:20261128T120000
DTSTAMP:20260422T052542
CREATED:20250924T010312Z
LAST-MODIFIED:20251101T220542Z
UID:10004512-1795863600-1795867200@sfchildrennature.org
SUMMARY:Teen Gardening at Merced Branch Library
DESCRIPTION:De–stress and enjoy the fresh air. Garden with the Library. For ages 13–18. Note: \nThis event is cross-posted from the SF Public Library website. Please check the Library events calendar posting for full details and any cancellations.
URL:https://sfchildrennature.org/event/activity-gardening-9/2026-11-28/
LOCATION:Merced Branch Library\, 155 Winston Dr\, San Francisco\, California\, 94132\, United States
CATEGORIES:For Families,For Teens
ATTACH;FMTTYPE=image/png:https://sfchildrennature.org/wp-content/uploads/Screenshot-2025-11-01-at-3.04.59-PM.png
GEO:37.72659367;-122.4744938
X-APPLE-STRUCTURED-LOCATION;VALUE=URI;X-ADDRESS=Merced Branch Library 155 Winston Dr San Francisco California 94132 United States;X-APPLE-RADIUS=500;X-TITLE=155 Winston Dr:geo:-122.4744938,37.72659367
END:VEVENT
BEGIN:VEVENT
DTSTART;TZID=America/Los_Angeles:20261205T110000
DTEND;TZID=America/Los_Angeles:20261205T120000
DTSTAMP:20260422T052542
CREATED:20250924T010312Z
LAST-MODIFIED:20251101T220542Z
UID:10004513-1796468400-1796472000@sfchildrennature.org
SUMMARY:Teen Gardening at Merced Branch Library
DESCRIPTION:De–stress and enjoy the fresh air. Garden with the Library. For ages 13–18. Note: \nThis event is cross-posted from the SF Public Library website. Please check the Library events calendar posting for full details and any cancellations.
URL:https://sfchildrennature.org/event/activity-gardening-9/2026-12-05/
LOCATION:Merced Branch Library\, 155 Winston Dr\, San Francisco\, California\, 94132\, United States
CATEGORIES:For Families,For Teens
ATTACH;FMTTYPE=image/png:https://sfchildrennature.org/wp-content/uploads/Screenshot-2025-11-01-at-3.04.59-PM.png
GEO:37.72659367;-122.4744938
X-APPLE-STRUCTURED-LOCATION;VALUE=URI;X-ADDRESS=Merced Branch Library 155 Winston Dr San Francisco California 94132 United States;X-APPLE-RADIUS=500;X-TITLE=155 Winston Dr:geo:-122.4744938,37.72659367
END:VEVENT
BEGIN:VEVENT
DTSTART;TZID=America/Los_Angeles:20261212T110000
DTEND;TZID=America/Los_Angeles:20261212T120000
DTSTAMP:20260422T052542
CREATED:20250924T010312Z
LAST-MODIFIED:20251101T220542Z
UID:10004514-1797073200-1797076800@sfchildrennature.org
SUMMARY:Teen Gardening at Merced Branch Library
DESCRIPTION:De–stress and enjoy the fresh air. Garden with the Library. For ages 13–18. Note: \nThis event is cross-posted from the SF Public Library website. Please check the Library events calendar posting for full details and any cancellations.
URL:https://sfchildrennature.org/event/activity-gardening-9/2026-12-12/
LOCATION:Merced Branch Library\, 155 Winston Dr\, San Francisco\, California\, 94132\, United States
CATEGORIES:For Families,For Teens
ATTACH;FMTTYPE=image/png:https://sfchildrennature.org/wp-content/uploads/Screenshot-2025-11-01-at-3.04.59-PM.png
GEO:37.72659367;-122.4744938
X-APPLE-STRUCTURED-LOCATION;VALUE=URI;X-ADDRESS=Merced Branch Library 155 Winston Dr San Francisco California 94132 United States;X-APPLE-RADIUS=500;X-TITLE=155 Winston Dr:geo:-122.4744938,37.72659367
END:VEVENT
BEGIN:VEVENT
DTSTART;TZID=America/Los_Angeles:20261219T110000
DTEND;TZID=America/Los_Angeles:20261219T120000
DTSTAMP:20260422T052542
CREATED:20250924T010312Z
LAST-MODIFIED:20251101T220542Z
UID:10004515-1797678000-1797681600@sfchildrennature.org
SUMMARY:Teen Gardening at Merced Branch Library
DESCRIPTION:De–stress and enjoy the fresh air. Garden with the Library. For ages 13–18. Note: \nThis event is cross-posted from the SF Public Library website. Please check the Library events calendar posting for full details and any cancellations.
URL:https://sfchildrennature.org/event/activity-gardening-9/2026-12-19/
LOCATION:Merced Branch Library\, 155 Winston Dr\, San Francisco\, California\, 94132\, United States
CATEGORIES:For Families,For Teens
ATTACH;FMTTYPE=image/png:https://sfchildrennature.org/wp-content/uploads/Screenshot-2025-11-01-at-3.04.59-PM.png
GEO:37.72659367;-122.4744938
X-APPLE-STRUCTURED-LOCATION;VALUE=URI;X-ADDRESS=Merced Branch Library 155 Winston Dr San Francisco California 94132 United States;X-APPLE-RADIUS=500;X-TITLE=155 Winston Dr:geo:-122.4744938,37.72659367
END:VEVENT
BEGIN:VEVENT
DTSTART;TZID=America/Los_Angeles:20261226T110000
DTEND;TZID=America/Los_Angeles:20261226T120000
DTSTAMP:20260422T052542
CREATED:20250924T010312Z
LAST-MODIFIED:20251101T220542Z
UID:10004516-1798282800-1798286400@sfchildrennature.org
SUMMARY:Teen Gardening at Merced Branch Library
DESCRIPTION:De–stress and enjoy the fresh air. Garden with the Library. For ages 13–18. Note: \nThis event is cross-posted from the SF Public Library website. Please check the Library events calendar posting for full details and any cancellations.
URL:https://sfchildrennature.org/event/activity-gardening-9/2026-12-26/
LOCATION:Merced Branch Library\, 155 Winston Dr\, San Francisco\, California\, 94132\, United States
CATEGORIES:For Families,For Teens
ATTACH;FMTTYPE=image/png:https://sfchildrennature.org/wp-content/uploads/Screenshot-2025-11-01-at-3.04.59-PM.png
GEO:37.72659367;-122.4744938
X-APPLE-STRUCTURED-LOCATION;VALUE=URI;X-ADDRESS=Merced Branch Library 155 Winston Dr San Francisco California 94132 United States;X-APPLE-RADIUS=500;X-TITLE=155 Winston Dr:geo:-122.4744938,37.72659367
END:VEVENT
END:VCALENDAR