BEGIN:VCALENDAR
VERSION:2.0
PRODID:-//SF Children &amp; Nature - ECPv6.15.17//NONSGML v1.0//EN
CALSCALE:GREGORIAN
METHOD:PUBLISH
X-ORIGINAL-URL:https://sfchildrennature.org
X-WR-CALDESC:Events for SF Children &amp; Nature
REFRESH-INTERVAL;VALUE=DURATION:PT1H
X-Robots-Tag:noindex
X-PUBLISHED-TTL:PT1H
BEGIN:VTIMEZONE
TZID:America/Los_Angeles
BEGIN:DAYLIGHT
TZOFFSETFROM:-0800
TZOFFSETTO:-0700
TZNAME:PDT
DTSTART:20230312T100000
END:DAYLIGHT
BEGIN:STANDARD
TZOFFSETFROM:-0700
TZOFFSETTO:-0800
TZNAME:PST
DTSTART:20231105T090000
END:STANDARD
BEGIN:DAYLIGHT
TZOFFSETFROM:-0800
TZOFFSETTO:-0700
TZNAME:PDT
DTSTART:20240310T100000
END:DAYLIGHT
BEGIN:STANDARD
TZOFFSETFROM:-0700
TZOFFSETTO:-0800
TZNAME:PST
DTSTART:20241103T090000
END:STANDARD
BEGIN:DAYLIGHT
TZOFFSETFROM:-0800
TZOFFSETTO:-0700
TZNAME:PDT
DTSTART:20250309T100000
END:DAYLIGHT
BEGIN:STANDARD
TZOFFSETFROM:-0700
TZOFFSETTO:-0800
TZNAME:PST
DTSTART:20251102T090000
END:STANDARD
BEGIN:DAYLIGHT
TZOFFSETFROM:-0800
TZOFFSETTO:-0700
TZNAME:PDT
DTSTART:20260308T100000
END:DAYLIGHT
BEGIN:STANDARD
TZOFFSETFROM:-0700
TZOFFSETTO:-0800
TZNAME:PST
DTSTART:20261101T090000
END:STANDARD
BEGIN:DAYLIGHT
TZOFFSETFROM:-0800
TZOFFSETTO:-0700
TZNAME:PDT
DTSTART:20270314T100000
END:DAYLIGHT
BEGIN:STANDARD
TZOFFSETFROM:-0700
TZOFFSETTO:-0800
TZNAME:PST
DTSTART:20271107T090000
END:STANDARD
END:VTIMEZONE
BEGIN:VEVENT
DTSTART;TZID=America/Los_Angeles:20260118T110000
DTEND;TZID=America/Los_Angeles:20260118T130000
DTSTAMP:20260423T043348
CREATED:20260109T202605Z
LAST-MODIFIED:20260109T202605Z
UID:10005116-1768734000-1768741200@sfchildrennature.org
SUMMARY:Claude Forever: A Celebration of Life
DESCRIPTION:The California Academy of Sciences presents a free outdoor community celebration of life with stories\, performances\, and activities for Claude fans of all ages. Special programming\, craft activities\, and an artisan marketplace featuring commemorative Claude souvenirs will follow at the Academy. Following the outdoor celebration\, indoor California Academy of Sciences events require tickets. \n Click here to learn more >
URL:https://sfchildrennature.org/event/claude-forever-a-celebration-of-life/
LOCATION:California Academy of Sciences\, 75 Nancy Pelosi Dr.\, San Francisco\, CA\, 94118\, United States
CATEGORIES:For Families,For Teens
ATTACH;FMTTYPE=image/png:https://sfchildrennature.org/wp-content/uploads/Screen-Shot-2026-01-07-at-8.28.03-AM.png
GEO:37.7695644;-122.4657783
X-APPLE-STRUCTURED-LOCATION;VALUE=URI;X-ADDRESS=California Academy of Sciences 75 Nancy Pelosi Dr. San Francisco CA 94118 United States;X-APPLE-RADIUS=500;X-TITLE=75 Nancy Pelosi Dr.:geo:-122.4657783,37.7695644
END:VEVENT
BEGIN:VEVENT
DTSTART;TZID=America/Los_Angeles:20250514T140000
DTEND;TZID=America/Los_Angeles:20250514T160000
DTSTAMP:20260423T043348
CREATED:20250506T163629Z
LAST-MODIFIED:20250506T163629Z
UID:10003734-1747231200-1747238400@sfchildrennature.org
SUMMARY:Family Nature Club at the California Academy of Sciences
DESCRIPTION:Explore the fascinating lives of honey bees\, one of the only bee species that makes honey! Discover their unique partnership with flowers and learn about the intricate structure of their communities\, from the busy worker bees to the drones and Queen. Experience how honey is extracted and take home a small jar of fresh\, local honey! Attendance must be confirmed the week of the event.  \nThe California Academy Academy of Science’s Family Nature Club offers FREE\, family-friendly fun outdoor science\, and nature activities to grow connections to the natural world. \nDon’t miss out on this exciting outdoor adventure. \nAttendance must be confirmed the week of the event. Learn more and register >
URL:https://sfchildrennature.org/event/family-nature-club-at-the-california-academy-of-sciences-2/
LOCATION:California Academy of Sciences\, 75 Nancy Pelosi Dr.\, San Francisco\, CA\, 94118\, United States
CATEGORIES:For Families,For Tots
ATTACH;FMTTYPE=image/png:https://sfchildrennature.org/wp-content/uploads/Bee-Title.png
GEO:37.7695644;-122.4657783
X-APPLE-STRUCTURED-LOCATION;VALUE=URI;X-ADDRESS=California Academy of Sciences 75 Nancy Pelosi Dr. San Francisco CA 94118 United States;X-APPLE-RADIUS=500;X-TITLE=75 Nancy Pelosi Dr.:geo:-122.4657783,37.7695644
END:VEVENT
BEGIN:VEVENT
DTSTART;TZID=America/Los_Angeles:20241016T093000
DTEND;TZID=America/Los_Angeles:20241016T123000
DTSTAMP:20260423T043348
CREATED:20240913T192626Z
LAST-MODIFIED:20240927T205051Z
UID:10002978-1729071000-1729081800@sfchildrennature.org
SUMMARY:Preschool Day at the Cal Academy of Sciences
DESCRIPTION:Join Cal Academy of Sciences on this special day for preschools\, daycare centers\, Family Resource Centers\, and Preschool for All providers. The Academy will host a variety of indoor and outdoor play-based activities for early learners ages 3–4. Registration is free and easy! \nTo register\, click here. \nLearn More >>
URL:https://sfchildrennature.org/event/10-16-preschool-day-at-the-cal-academy-of-sciences/
LOCATION:California Academy of Sciences\, 75 Nancy Pelosi Dr.\, San Francisco\, CA\, 94118\, United States
CATEGORIES:For Families,For Preschools and FCCs
ATTACH;FMTTYPE=image/jpeg:https://sfchildrennature.org/wp-content/uploads/Preschool-Day-Cal-Academy.jpg
GEO:37.7695644;-122.4657783
X-APPLE-STRUCTURED-LOCATION;VALUE=URI;X-ADDRESS=California Academy of Sciences 75 Nancy Pelosi Dr. San Francisco CA 94118 United States;X-APPLE-RADIUS=500;X-TITLE=75 Nancy Pelosi Dr.:geo:-122.4657783,37.7695644
END:VEVENT
BEGIN:VEVENT
DTSTART;TZID=America/Los_Angeles:20240814T140000
DTEND;TZID=America/Los_Angeles:20240814T160000
DTSTAMP:20260423T043348
CREATED:20240808T174358Z
LAST-MODIFIED:20240809T215157Z
UID:10002971-1723644000-1723651200@sfchildrennature.org
SUMMARY:Family Nature Club Program
DESCRIPTION:Join the Cal Academy of Sciences on their first Family Nature Club Program Launch. \nThe Family Nature Club (FNC) is a NEW Academy of Sciences program for families of all ages\, abilities and backgrounds.\nThe program inspires families to spend time outside playing and learning together in nature\, and to grow deeper connections to their local environment and the natural world. \nThis FREE program will feature fun outdoor adventures\, opportunities to contribute to authentic scientific research\, and hands-on science for the whole family! \nFor any questions\, please email Mia Klett at mklett@calacademy.org. \nLearn more and register >>
URL:https://sfchildrennature.org/event/family-nature-club-program/
LOCATION:California Academy of Sciences\, 75 Nancy Pelosi Dr.\, San Francisco\, CA\, 94118\, United States
CATEGORIES:For Families,Nature Play
ATTACH;FMTTYPE=image/jpeg:https://sfchildrennature.org/wp-content/uploads/Cal-Academy-FNC.jpg
GEO:37.7695644;-122.4657783
X-APPLE-STRUCTURED-LOCATION;VALUE=URI;X-ADDRESS=California Academy of Sciences 75 Nancy Pelosi Dr. San Francisco CA 94118 United States;X-APPLE-RADIUS=500;X-TITLE=75 Nancy Pelosi Dr.:geo:-122.4657783,37.7695644
END:VEVENT
END:VCALENDAR