BEGIN:VCALENDAR
VERSION:2.0
PRODID:-//SF Children &amp; Nature - ECPv6.15.17//NONSGML v1.0//EN
CALSCALE:GREGORIAN
METHOD:PUBLISH
X-ORIGINAL-URL:https://sfchildrennature.org
X-WR-CALDESC:Events for SF Children &amp; Nature
REFRESH-INTERVAL;VALUE=DURATION:PT1H
X-Robots-Tag:noindex
X-PUBLISHED-TTL:PT1H
BEGIN:VTIMEZONE
TZID:America/Los_Angeles
BEGIN:DAYLIGHT
TZOFFSETFROM:-0800
TZOFFSETTO:-0700
TZNAME:PDT
DTSTART:20250309T100000
END:DAYLIGHT
BEGIN:STANDARD
TZOFFSETFROM:-0700
TZOFFSETTO:-0800
TZNAME:PST
DTSTART:20251102T090000
END:STANDARD
BEGIN:DAYLIGHT
TZOFFSETFROM:-0800
TZOFFSETTO:-0700
TZNAME:PDT
DTSTART:20260308T100000
END:DAYLIGHT
BEGIN:STANDARD
TZOFFSETFROM:-0700
TZOFFSETTO:-0800
TZNAME:PST
DTSTART:20261101T090000
END:STANDARD
BEGIN:DAYLIGHT
TZOFFSETFROM:-0800
TZOFFSETTO:-0700
TZNAME:PDT
DTSTART:20270314T100000
END:DAYLIGHT
BEGIN:STANDARD
TZOFFSETFROM:-0700
TZOFFSETTO:-0800
TZNAME:PST
DTSTART:20271107T090000
END:STANDARD
END:VTIMEZONE
BEGIN:VEVENT
DTSTART;TZID=America/Los_Angeles:20260502T090000
DTEND;TZID=America/Los_Angeles:20260502T120000
DTSTAMP:20260420T073922
CREATED:20251101T225825Z
LAST-MODIFIED:20251109T225949Z
UID:10004802-1777712400-1777723200@sfchildrennature.org
SUMMARY:Help Nature Thrive in the Presidio!
DESCRIPTION:Join the Presidio Habitat Stewards to help care for San Francisco’s natural areas. Activities may include planting\, watering\, weeding\, and mulching to restore the park’s creeks\, dunes\, grasslands\, and woodlands—while learning about the native plants and animals that call the Presidio home. \nIt’s a fun\, educational way for families and nature lovers of all ages to make a difference!Meeting details will be provided in your registration confirmation email. \nThis is a cross-posted event. Check the original listing for updates and cancellations.  \nLearn more and register >
URL:https://sfchildrennature.org/event/help-nature-thrive-at-the-presidio/2026-05-02/
LOCATION:Presidio Visitor Center\, Lincoln Boulevard 210\, San Francisco\, CA\, 94129\, United States
CATEGORIES:For Families,For Teens,Service Project
ATTACH;FMTTYPE=image/png:https://sfchildrennature.org/wp-content/uploads/Screenshot-2025-11-01-at-4.05.45-PM.png
ORGANIZER;CN="Presidio Trust":MAILTO:presidio@presidiotrust.gov
GEO:37.8020186;-122.456765
X-APPLE-STRUCTURED-LOCATION;VALUE=URI;X-ADDRESS=Presidio Visitor Center Lincoln Boulevard 210 San Francisco CA 94129 United States;X-APPLE-RADIUS=500;X-TITLE=Lincoln Boulevard 210:geo:-122.456765,37.8020186
END:VEVENT
BEGIN:VEVENT
DTSTART;TZID=America/Los_Angeles:20260509T090000
DTEND;TZID=America/Los_Angeles:20260509T120000
DTSTAMP:20260420T073923
CREATED:20251101T225825Z
LAST-MODIFIED:20251109T225949Z
UID:10004803-1778317200-1778328000@sfchildrennature.org
SUMMARY:Help Nature Thrive in the Presidio!
DESCRIPTION:Join the Presidio Habitat Stewards to help care for San Francisco’s natural areas. Activities may include planting\, watering\, weeding\, and mulching to restore the park’s creeks\, dunes\, grasslands\, and woodlands—while learning about the native plants and animals that call the Presidio home. \nIt’s a fun\, educational way for families and nature lovers of all ages to make a difference!Meeting details will be provided in your registration confirmation email. \nThis is a cross-posted event. Check the original listing for updates and cancellations.  \nLearn more and register >
URL:https://sfchildrennature.org/event/help-nature-thrive-at-the-presidio/2026-05-09/
LOCATION:Presidio Visitor Center\, Lincoln Boulevard 210\, San Francisco\, CA\, 94129\, United States
CATEGORIES:For Families,For Teens,Service Project
ATTACH;FMTTYPE=image/png:https://sfchildrennature.org/wp-content/uploads/Screenshot-2025-11-01-at-4.05.45-PM.png
ORGANIZER;CN="Presidio Trust":MAILTO:presidio@presidiotrust.gov
GEO:37.8020186;-122.456765
X-APPLE-STRUCTURED-LOCATION;VALUE=URI;X-ADDRESS=Presidio Visitor Center Lincoln Boulevard 210 San Francisco CA 94129 United States;X-APPLE-RADIUS=500;X-TITLE=Lincoln Boulevard 210:geo:-122.456765,37.8020186
END:VEVENT
BEGIN:VEVENT
DTSTART;TZID=America/Los_Angeles:20260516T090000
DTEND;TZID=America/Los_Angeles:20260516T120000
DTSTAMP:20260420T073923
CREATED:20251101T225825Z
LAST-MODIFIED:20251109T225949Z
UID:10004804-1778922000-1778932800@sfchildrennature.org
SUMMARY:Help Nature Thrive in the Presidio!
DESCRIPTION:Join the Presidio Habitat Stewards to help care for San Francisco’s natural areas. Activities may include planting\, watering\, weeding\, and mulching to restore the park’s creeks\, dunes\, grasslands\, and woodlands—while learning about the native plants and animals that call the Presidio home. \nIt’s a fun\, educational way for families and nature lovers of all ages to make a difference!Meeting details will be provided in your registration confirmation email. \nThis is a cross-posted event. Check the original listing for updates and cancellations.  \nLearn more and register >
URL:https://sfchildrennature.org/event/help-nature-thrive-at-the-presidio/2026-05-16/
LOCATION:Presidio Visitor Center\, Lincoln Boulevard 210\, San Francisco\, CA\, 94129\, United States
CATEGORIES:For Families,For Teens,Service Project
ATTACH;FMTTYPE=image/png:https://sfchildrennature.org/wp-content/uploads/Screenshot-2025-11-01-at-4.05.45-PM.png
ORGANIZER;CN="Presidio Trust":MAILTO:presidio@presidiotrust.gov
GEO:37.8020186;-122.456765
X-APPLE-STRUCTURED-LOCATION;VALUE=URI;X-ADDRESS=Presidio Visitor Center Lincoln Boulevard 210 San Francisco CA 94129 United States;X-APPLE-RADIUS=500;X-TITLE=Lincoln Boulevard 210:geo:-122.456765,37.8020186
END:VEVENT
BEGIN:VEVENT
DTSTART;TZID=America/Los_Angeles:20260523T090000
DTEND;TZID=America/Los_Angeles:20260523T120000
DTSTAMP:20260420T073923
CREATED:20251101T225825Z
LAST-MODIFIED:20251109T225949Z
UID:10004805-1779526800-1779537600@sfchildrennature.org
SUMMARY:Help Nature Thrive in the Presidio!
DESCRIPTION:Join the Presidio Habitat Stewards to help care for San Francisco’s natural areas. Activities may include planting\, watering\, weeding\, and mulching to restore the park’s creeks\, dunes\, grasslands\, and woodlands—while learning about the native plants and animals that call the Presidio home. \nIt’s a fun\, educational way for families and nature lovers of all ages to make a difference!Meeting details will be provided in your registration confirmation email. \nThis is a cross-posted event. Check the original listing for updates and cancellations.  \nLearn more and register >
URL:https://sfchildrennature.org/event/help-nature-thrive-at-the-presidio/2026-05-23/
LOCATION:Presidio Visitor Center\, Lincoln Boulevard 210\, San Francisco\, CA\, 94129\, United States
CATEGORIES:For Families,For Teens,Service Project
ATTACH;FMTTYPE=image/png:https://sfchildrennature.org/wp-content/uploads/Screenshot-2025-11-01-at-4.05.45-PM.png
ORGANIZER;CN="Presidio Trust":MAILTO:presidio@presidiotrust.gov
GEO:37.8020186;-122.456765
X-APPLE-STRUCTURED-LOCATION;VALUE=URI;X-ADDRESS=Presidio Visitor Center Lincoln Boulevard 210 San Francisco CA 94129 United States;X-APPLE-RADIUS=500;X-TITLE=Lincoln Boulevard 210:geo:-122.456765,37.8020186
END:VEVENT
BEGIN:VEVENT
DTSTART;TZID=America/Los_Angeles:20260530T090000
DTEND;TZID=America/Los_Angeles:20260530T120000
DTSTAMP:20260420T073923
CREATED:20251101T225825Z
LAST-MODIFIED:20251109T225949Z
UID:10004806-1780131600-1780142400@sfchildrennature.org
SUMMARY:Help Nature Thrive in the Presidio!
DESCRIPTION:Join the Presidio Habitat Stewards to help care for San Francisco’s natural areas. Activities may include planting\, watering\, weeding\, and mulching to restore the park’s creeks\, dunes\, grasslands\, and woodlands—while learning about the native plants and animals that call the Presidio home. \nIt’s a fun\, educational way for families and nature lovers of all ages to make a difference!Meeting details will be provided in your registration confirmation email. \nThis is a cross-posted event. Check the original listing for updates and cancellations.  \nLearn more and register >
URL:https://sfchildrennature.org/event/help-nature-thrive-at-the-presidio/2026-05-30/
LOCATION:Presidio Visitor Center\, Lincoln Boulevard 210\, San Francisco\, CA\, 94129\, United States
CATEGORIES:For Families,For Teens,Service Project
ATTACH;FMTTYPE=image/png:https://sfchildrennature.org/wp-content/uploads/Screenshot-2025-11-01-at-4.05.45-PM.png
ORGANIZER;CN="Presidio Trust":MAILTO:presidio@presidiotrust.gov
GEO:37.8020186;-122.456765
X-APPLE-STRUCTURED-LOCATION;VALUE=URI;X-ADDRESS=Presidio Visitor Center Lincoln Boulevard 210 San Francisco CA 94129 United States;X-APPLE-RADIUS=500;X-TITLE=Lincoln Boulevard 210:geo:-122.456765,37.8020186
END:VEVENT
END:VCALENDAR