BEGIN:VCALENDAR
VERSION:2.0
PRODID:-//SF Children &amp; Nature - ECPv6.15.17//NONSGML v1.0//EN
CALSCALE:GREGORIAN
METHOD:PUBLISH
X-ORIGINAL-URL:https://sfchildrennature.org
X-WR-CALDESC:Events for SF Children &amp; Nature
REFRESH-INTERVAL;VALUE=DURATION:PT1H
X-Robots-Tag:noindex
X-PUBLISHED-TTL:PT1H
BEGIN:VTIMEZONE
TZID:America/Los_Angeles
BEGIN:DAYLIGHT
TZOFFSETFROM:-0800
TZOFFSETTO:-0700
TZNAME:PDT
DTSTART:20240310T100000
END:DAYLIGHT
BEGIN:STANDARD
TZOFFSETFROM:-0700
TZOFFSETTO:-0800
TZNAME:PST
DTSTART:20241103T090000
END:STANDARD
BEGIN:DAYLIGHT
TZOFFSETFROM:-0800
TZOFFSETTO:-0700
TZNAME:PDT
DTSTART:20250309T100000
END:DAYLIGHT
BEGIN:STANDARD
TZOFFSETFROM:-0700
TZOFFSETTO:-0800
TZNAME:PST
DTSTART:20251102T090000
END:STANDARD
BEGIN:DAYLIGHT
TZOFFSETFROM:-0800
TZOFFSETTO:-0700
TZNAME:PDT
DTSTART:20260308T100000
END:DAYLIGHT
BEGIN:STANDARD
TZOFFSETFROM:-0700
TZOFFSETTO:-0800
TZNAME:PST
DTSTART:20261101T090000
END:STANDARD
BEGIN:DAYLIGHT
TZOFFSETFROM:-0800
TZOFFSETTO:-0700
TZNAME:PDT
DTSTART:20270314T100000
END:DAYLIGHT
BEGIN:STANDARD
TZOFFSETFROM:-0700
TZOFFSETTO:-0800
TZNAME:PST
DTSTART:20271107T090000
END:STANDARD
END:VTIMEZONE
BEGIN:VEVENT
DTSTART;TZID=America/Los_Angeles:20250515T100000
DTEND;TZID=America/Los_Angeles:20250515T130000
DTSTAMP:20260422T163849
CREATED:20250304T165554Z
LAST-MODIFIED:20250304T170342Z
UID:10003238-1747303200-1747314000@sfchildrennature.org
SUMMARY:Garden Resource Day | FREE Garden Materials
DESCRIPTION:San Francisco Rec and Park’s Urban Agriculture Program offers free supplies to backyard gardeners\, community gardeners\, and urban farmers through its regular Garden Resource Days. These events take place every six weeks during the non-winter months\, providing compost at every gathering\, along with mulch\, seeds\, plant starts\, and composting worms when available. Garden Resource Days are now hosted in the overflow parking lot at Gleneagles Golf Course\, adjacent to the McLaren Bike Park. Participants should bring their own buckets\, as supplies are limited. Learn more>>
URL:https://sfchildrennature.org/event/garden-resource-day-free-garden-materials-2/
LOCATION:Gleneagles Golf Course Overflow Parking Lot\, 2100 Sunnydale Ave\, San Francisco\, CA 94134\, San Francisco\, CA\, 94134\, United States
CATEGORIES:For Families,Nature Resources
ATTACH;FMTTYPE=image/jpeg:https://sfchildrennature.org/wp-content/uploads/Garden-Resource-Days-1.jpg
ORGANIZER;CN="SF Rec & Park Urban Agriculture Program":MAILTO:CommunityGardens@sfgov.org
GEO:37.716008;-122.424396
X-APPLE-STRUCTURED-LOCATION;VALUE=URI;X-ADDRESS=Gleneagles Golf Course Overflow Parking Lot 2100 Sunnydale Ave San Francisco CA 94134 San Francisco CA 94134 United States;X-APPLE-RADIUS=500;X-TITLE=2100 Sunnydale Ave\, San Francisco\, CA 94134:geo:-122.424396,37.716008
END:VEVENT
BEGIN:VEVENT
DTSTART;TZID=America/Los_Angeles:20250719T100000
DTEND;TZID=America/Los_Angeles:20250719T130000
DTSTAMP:20260422T163849
CREATED:20250304T165321Z
LAST-MODIFIED:20250924T003853Z
UID:10003235-1752919200-1752930000@sfchildrennature.org
SUMMARY:Garden Resource Day | Free Garden Materials
DESCRIPTION:The Urban Agriculture Program offers free supplies to backyard gardeners\, community gardeners\, and urban farmers through Garden Resource Days. Happening every six weeks (during the non-winter months)\, these gatherings provide compost at every event\, plus mulch\, seeds\, plant starts\, and composting worms whenever available. \nWhere:Garden Resource Days are hosted at 155 Jennings Street. \nHow to Join: \n\n\nPre-registration is required. \n\n\nEach adult can sign up for one time slot: 10 a.m.\, 11 a.m.\, or noon. \n\n\nPlease bring your own buckets—supplies are limited\, so registration is needed. \n\n\nRegistration opens two weeks before each event. \n\n\nLearn more and register>>
URL:https://sfchildrennature.org/event/garden-resource-day-free-garden-materials/2025-07-19/
LOCATION:NOW Hunters Point\, 155 Jennings St.\, San Francisco\, 94124\, United States
CATEGORIES:For Families,Nature Resources
ATTACH;FMTTYPE=image/jpeg:https://sfchildrennature.org/wp-content/uploads/Garden-Resource-Days-1.jpg
ORGANIZER;CN="SF Rec & Park Urban Agriculture Program":MAILTO:CommunityGardens@sfgov.org
GEO:37.739241;-122.3773076
X-APPLE-STRUCTURED-LOCATION;VALUE=URI;X-ADDRESS=NOW Hunters Point 155 Jennings St. San Francisco 94124 United States;X-APPLE-RADIUS=500;X-TITLE=155 Jennings St.:geo:-122.3773076,37.739241
END:VEVENT
BEGIN:VEVENT
DTSTART;TZID=America/Los_Angeles:20250927T100000
DTEND;TZID=America/Los_Angeles:20250927T130000
DTSTAMP:20260422T163849
CREATED:20250304T165321Z
LAST-MODIFIED:20250924T003853Z
UID:10003236-1758967200-1758978000@sfchildrennature.org
SUMMARY:Garden Resource Day | Free Garden Materials
DESCRIPTION:The Urban Agriculture Program offers free supplies to backyard gardeners\, community gardeners\, and urban farmers through Garden Resource Days. Happening every six weeks (during the non-winter months)\, these gatherings provide compost at every event\, plus mulch\, seeds\, plant starts\, and composting worms whenever available. \nWhere:Garden Resource Days are hosted at 155 Jennings Street. \nHow to Join: \n\n\nPre-registration is required. \n\n\nEach adult can sign up for one time slot: 10 a.m.\, 11 a.m.\, or noon. \n\n\nPlease bring your own buckets—supplies are limited\, so registration is needed. \n\n\nRegistration opens two weeks before each event. \n\n\nLearn more and register>>
URL:https://sfchildrennature.org/event/garden-resource-day-free-garden-materials/2025-09-27/
LOCATION:NOW Hunters Point\, 155 Jennings St.\, San Francisco\, 94124\, United States
CATEGORIES:For Families,Nature Resources
ATTACH;FMTTYPE=image/jpeg:https://sfchildrennature.org/wp-content/uploads/Garden-Resource-Days-1.jpg
ORGANIZER;CN="SF Rec & Park Urban Agriculture Program":MAILTO:CommunityGardens@sfgov.org
GEO:37.739241;-122.3773076
X-APPLE-STRUCTURED-LOCATION;VALUE=URI;X-ADDRESS=NOW Hunters Point 155 Jennings St. San Francisco 94124 United States;X-APPLE-RADIUS=500;X-TITLE=155 Jennings St.:geo:-122.3773076,37.739241
END:VEVENT
BEGIN:VEVENT
DTSTART;TZID=America/Los_Angeles:20251101T100000
DTEND;TZID=America/Los_Angeles:20251101T130000
DTSTAMP:20260422T163849
CREATED:20250304T165321Z
LAST-MODIFIED:20250924T003853Z
UID:10003237-1761991200-1762002000@sfchildrennature.org
SUMMARY:Garden Resource Day | Free Garden Materials
DESCRIPTION:The Urban Agriculture Program offers free supplies to backyard gardeners\, community gardeners\, and urban farmers through Garden Resource Days. Happening every six weeks (during the non-winter months)\, these gatherings provide compost at every event\, plus mulch\, seeds\, plant starts\, and composting worms whenever available. \nWhere:Garden Resource Days are hosted at 155 Jennings Street. \nHow to Join: \n\n\nPre-registration is required. \n\n\nEach adult can sign up for one time slot: 10 a.m.\, 11 a.m.\, or noon. \n\n\nPlease bring your own buckets—supplies are limited\, so registration is needed. \n\n\nRegistration opens two weeks before each event. \n\n\nLearn more and register>>
URL:https://sfchildrennature.org/event/garden-resource-day-free-garden-materials/2025-11-01/
LOCATION:NOW Hunters Point\, 155 Jennings St.\, San Francisco\, 94124\, United States
CATEGORIES:For Families,Nature Resources
ATTACH;FMTTYPE=image/jpeg:https://sfchildrennature.org/wp-content/uploads/Garden-Resource-Days-1.jpg
ORGANIZER;CN="SF Rec & Park Urban Agriculture Program":MAILTO:CommunityGardens@sfgov.org
GEO:37.739241;-122.3773076
X-APPLE-STRUCTURED-LOCATION;VALUE=URI;X-ADDRESS=NOW Hunters Point 155 Jennings St. San Francisco 94124 United States;X-APPLE-RADIUS=500;X-TITLE=155 Jennings St.:geo:-122.3773076,37.739241
END:VEVENT
BEGIN:VEVENT
DTSTART;TZID=America/Los_Angeles:20260124T130000
DTEND;TZID=America/Los_Angeles:20260124T143000
DTSTAMP:20260422T163849
CREATED:20260109T202914Z
LAST-MODIFIED:20260109T202914Z
UID:10005117-1769259600-1769265000@sfchildrennature.org
SUMMARY:Beginning Birding at Candlestick Point State Recreation Area
DESCRIPTION:Come out to Candlestick Point State Recreation Area to learn about local species and tips for spotting them in the wild. This event is perfect for all bird enthusiasts\, no matter your experience level. Don’t miss this opportunity to connect with nature and fellow bird lovers! \n Click here to learn more >
URL:https://sfchildrennature.org/event/beginning-birding-at-candlestick-point-state-recreation-area-2/
LOCATION:Candlstick Community Garden\, Carroll Avenue 1150\, San Francisco\, CA\, 94124\, United States
CATEGORIES:For Families,For Teens,Nature Resources
ATTACH;FMTTYPE=image/png:https://sfchildrennature.org/wp-content/uploads/Screen-Shot-2026-01-09-at-12.28.32-PM.png
GEO:37.7204703;-122.3849014
X-APPLE-STRUCTURED-LOCATION;VALUE=URI;X-ADDRESS=Candlstick Community Garden Carroll Avenue 1150 San Francisco CA 94124 United States;X-APPLE-RADIUS=500;X-TITLE=Carroll Avenue 1150:geo:-122.3849014,37.7204703
END:VEVENT
BEGIN:VEVENT
DTSTART;TZID=America/Los_Angeles:20260130T110000
DTEND;TZID=America/Los_Angeles:20260130T170000
DTSTAMP:20260422T163849
CREATED:20260109T203710Z
LAST-MODIFIED:20260109T203710Z
UID:10005119-1769770800-1769792400@sfchildrennature.org
SUMMARY:Queer & Well x Parks Conservancy Presents “Recharge & Unplug” – Mori Point
DESCRIPTION:Join the Parks Conservancy and the SF LGBT Center for a Winter series of Bay Area nature experiences focused on nervous system regulation\, native plant teas\, and land stewardship. Participants will learn about local plant communities\, share tea\, and care for the land through planting\, weeding\, and other acts of reciprocity—recognizing that land care is healing for both the land and people. \n Click here to learn more >
URL:https://sfchildrennature.org/event/queer-well-x-parks-conservancy-presents-recharge-unplug-mori-point/
LOCATION:Mori Point\, 775 Bradford Way\, Pacifica\, CA\, 94044\, United States
CATEGORIES:For Families,Nature Resources
ATTACH;FMTTYPE=image/png:https://sfchildrennature.org/wp-content/uploads/Screen-Shot-2026-01-07-at-8.39.05-AM.png
GEO:37.6191112;-122.4867682
X-APPLE-STRUCTURED-LOCATION;VALUE=URI;X-ADDRESS=Mori Point 775 Bradford Way Pacifica CA 94044 United States;X-APPLE-RADIUS=500;X-TITLE=775 Bradford Way:geo:-122.4867682,37.6191112
END:VEVENT
BEGIN:VEVENT
DTSTART;TZID=America/Los_Angeles:20260310T080000
DTEND;TZID=America/Los_Angeles:20260310T170000
DTSTAMP:20260422T163849
CREATED:20260306T202212Z
LAST-MODIFIED:20260306T202357Z
UID:10005159-1773129600-1773162000@sfchildrennature.org
SUMMARY:FREE Compost Giveaway
DESCRIPTION:The SF Rec & Park Urban Agriculture program helps people grow food\, flowers\, and plants in the city. Come out for the FREE compost giveaway. The event starts when the compost arrives around sunrise and ends at sundown\, while supplies last.\nLocation: Sunset Circle Parking Lot of Lake Merced (Sunset Boulevard & Lake Merced Boulevard) GOOGLE MAPS and APPLE MAPS\nThis is a self-serve unstaffed\, compost ONLY event. 5-bucket limit per person\, no commercial use.\nLearn More > 
URL:https://sfchildrennature.org/event/free-compost-giveaway/
LOCATION:Sunset Circle Parking Lot of Lake Merced\, Sunset Boulevard & Lake Merced Boulevard\, San Francisco\, CA\, 94132\, United States
CATEGORIES:For Families,Nature Resources
ATTACH;FMTTYPE=image/png:https://sfchildrennature.org/wp-content/uploads/CompostGiveaway.png
ORGANIZER;CN="SF Rec & Park Urban Agriculture Program":MAILTO:CommunityGardens@sfgov.org
GEO:37.7296127;-122.4935327
X-APPLE-STRUCTURED-LOCATION;VALUE=URI;X-ADDRESS=Sunset Circle Parking Lot of Lake Merced Sunset Boulevard & Lake Merced Boulevard San Francisco CA 94132 United States;X-APPLE-RADIUS=500;X-TITLE=Sunset Boulevard & Lake Merced Boulevard:geo:-122.4935327,37.7296127
END:VEVENT
END:VCALENDAR