BEGIN:VCALENDAR
VERSION:2.0
PRODID:-//SF Children &amp; Nature - ECPv6.15.17//NONSGML v1.0//EN
CALSCALE:GREGORIAN
METHOD:PUBLISH
X-ORIGINAL-URL:https://sfchildrennature.org
X-WR-CALDESC:Events for SF Children &amp; Nature
REFRESH-INTERVAL;VALUE=DURATION:PT1H
X-Robots-Tag:noindex
X-PUBLISHED-TTL:PT1H
BEGIN:VTIMEZONE
TZID:America/Los_Angeles
BEGIN:DAYLIGHT
TZOFFSETFROM:-0800
TZOFFSETTO:-0700
TZNAME:PDT
DTSTART:20250309T100000
END:DAYLIGHT
BEGIN:STANDARD
TZOFFSETFROM:-0700
TZOFFSETTO:-0800
TZNAME:PST
DTSTART:20251102T090000
END:STANDARD
BEGIN:DAYLIGHT
TZOFFSETFROM:-0800
TZOFFSETTO:-0700
TZNAME:PDT
DTSTART:20260308T100000
END:DAYLIGHT
BEGIN:STANDARD
TZOFFSETFROM:-0700
TZOFFSETTO:-0800
TZNAME:PST
DTSTART:20261101T090000
END:STANDARD
BEGIN:DAYLIGHT
TZOFFSETFROM:-0800
TZOFFSETTO:-0700
TZNAME:PDT
DTSTART:20270314T100000
END:DAYLIGHT
BEGIN:STANDARD
TZOFFSETFROM:-0700
TZOFFSETTO:-0800
TZNAME:PST
DTSTART:20271107T090000
END:STANDARD
END:VTIMEZONE
BEGIN:VEVENT
DTSTART;TZID=America/Los_Angeles:20260425T100000
DTEND;TZID=America/Los_Angeles:20260425T130000
DTSTAMP:20260422T103013
CREATED:20260310T224822Z
LAST-MODIFIED:20260310T224822Z
UID:10005190-1777111200-1777122000@sfchildrennature.org
SUMMARY:EcoCenter 16th Anniversary Celebration
DESCRIPTION:Celebrate the 16th Anniversary of the EcoCenter at Heron’s Head Park with a day of free\, family-friendly activities. Enjoy volunteer projects like habitat restoration and planting\, plus birding\, nature walks\, games\, and more. Local organizations will also be on site sharing resources and information. \nLearn more and register> 
URL:https://sfchildrennature.org/event/ecocenter-16th-anniversary-celebration/
LOCATION:The EcoCenter at Heron’s Head Park\, 32 Jennings Street\, San Francisco\, CA\, 94124\, United States
CATEGORIES:For Families,For Teens,For Tots,Nature Play,Nature Resources,Service Project
ATTACH;FMTTYPE=image/png:https://sfchildrennature.org/wp-content/uploads/Screen-Shot-2026-03-10-at-3.43.30-PM.png
ORGANIZER;CN="EcoCenter at Heron's Head Park":MAILTO:ecocenterhhp@sfgov.org
GEO:37.7396721;-122.3753293
X-APPLE-STRUCTURED-LOCATION;VALUE=URI;X-ADDRESS=The EcoCenter at Heron’s Head Park 32 Jennings Street San Francisco CA 94124 United States;X-APPLE-RADIUS=500;X-TITLE=32 Jennings Street:geo:-122.3753293,37.7396721
END:VEVENT
END:VCALENDAR