BEGIN:VCALENDAR
VERSION:2.0
PRODID:-//SF Children &amp; Nature - ECPv6.15.17//NONSGML v1.0//EN
CALSCALE:GREGORIAN
METHOD:PUBLISH
X-ORIGINAL-URL:https://sfchildrennature.org
X-WR-CALDESC:Events for SF Children &amp; Nature
REFRESH-INTERVAL;VALUE=DURATION:PT1H
X-Robots-Tag:noindex
X-PUBLISHED-TTL:PT1H
BEGIN:VTIMEZONE
TZID:America/Los_Angeles
BEGIN:DAYLIGHT
TZOFFSETFROM:-0800
TZOFFSETTO:-0700
TZNAME:PDT
DTSTART:20250309T100000
END:DAYLIGHT
BEGIN:STANDARD
TZOFFSETFROM:-0700
TZOFFSETTO:-0800
TZNAME:PST
DTSTART:20251102T090000
END:STANDARD
BEGIN:DAYLIGHT
TZOFFSETFROM:-0800
TZOFFSETTO:-0700
TZNAME:PDT
DTSTART:20260308T100000
END:DAYLIGHT
BEGIN:STANDARD
TZOFFSETFROM:-0700
TZOFFSETTO:-0800
TZNAME:PST
DTSTART:20261101T090000
END:STANDARD
BEGIN:DAYLIGHT
TZOFFSETFROM:-0800
TZOFFSETTO:-0700
TZNAME:PDT
DTSTART:20270314T100000
END:DAYLIGHT
BEGIN:STANDARD
TZOFFSETFROM:-0700
TZOFFSETTO:-0800
TZNAME:PST
DTSTART:20271107T090000
END:STANDARD
END:VTIMEZONE
BEGIN:VEVENT
DTSTART;TZID=America/Los_Angeles:20260425T100000
DTEND;TZID=America/Los_Angeles:20260425T130000
DTSTAMP:20260420T204844
CREATED:20260401T185316Z
LAST-MODIFIED:20260401T185316Z
UID:10005193-1777111200-1777122000@sfchildrennature.org
SUMMARY:Black Outside
DESCRIPTION:Join Black Outside for their inaugural event celebrating community\, nature\, and connection at the EcoCenter at Heron’s Head Park! Black Outside is dedicated to creating safe\, welcoming\, and joyful outdoor spaces for Black families across San Francisco. \nThis free\, family-friendly gathering will feature games and activities\, eco-workshops\, refreshments\, and a guided leisure hike. It’s a wonderful opportunity to connect with others\, explore nature\, and celebrate the EcoCenter’s 16th anniversary together. \nLearn more and register>>
URL:https://sfchildrennature.org/event/black-outside/
LOCATION:The EcoCenter at Heron’s Head Park\, 32 Jennings Street\, San Francisco\, CA\, 94124\, United States
CATEGORIES:For Families,For Teens,For Tots,Nature Play
ATTACH;FMTTYPE=image/png:https://sfchildrennature.org/wp-content/uploads/Screen-Shot-2026-04-01-at-8.50.50-AM.png
ORGANIZER;CN="Black Outisde":MAILTO:fitzpatrick.delia@gmail.com
GEO:37.7396721;-122.3753293
X-APPLE-STRUCTURED-LOCATION;VALUE=URI;X-ADDRESS=The EcoCenter at Heron’s Head Park 32 Jennings Street San Francisco CA 94124 United States;X-APPLE-RADIUS=500;X-TITLE=32 Jennings Street:geo:-122.3753293,37.7396721
END:VEVENT
BEGIN:VEVENT
DTSTART;TZID=America/Los_Angeles:20260425T110000
DTEND;TZID=America/Los_Angeles:20260425T150000
DTSTAMP:20260420T204844
CREATED:20260310T224221Z
LAST-MODIFIED:20260310T224221Z
UID:10005189-1777114800-1777129200@sfchildrennature.org
SUMMARY:Alemany Farm Earth Day
DESCRIPTION:Join Friends of Alemany Farm for their Earth Day celebration on Saturday\, April 25 from 11 AM–3 PM at Alemany Farm. This free community event will feature planting activities\, farm tours\, live music\, face painting\, family-friendly activities\, and delicious food including a pig roast and BBQ. Come celebrate Earth Day and connect with the community at one of San Francisco’s beloved urban farms. \nLearn more and register> 
URL:https://sfchildrennature.org/event/alemany-farm-earth-day/
LOCATION:Alemany Farm\, 700 Alemany Blvd\, San Francisco\, CA\, 94110\, United States
CATEGORIES:Create-with-Nature,For Families,For Teens,For Tots,Nature Play
ATTACH;FMTTYPE=image/png:https://sfchildrennature.org/wp-content/uploads/Screen-Shot-2026-03-10-at-3.39.11-PM.png
GEO:37.7323154;-122.419734
X-APPLE-STRUCTURED-LOCATION;VALUE=URI;X-ADDRESS=Alemany Farm 700 Alemany Blvd San Francisco CA 94110 United States;X-APPLE-RADIUS=500;X-TITLE=700 Alemany Blvd:geo:-122.419734,37.7323154
END:VEVENT
BEGIN:VEVENT
DTSTART;TZID=America/Los_Angeles:20260428T100000
DTEND;TZID=America/Los_Angeles:20260428T120000
DTSTAMP:20260420T204844
CREATED:20260306T185553Z
LAST-MODIFIED:20260309T172224Z
UID:10005176-1777370400-1777377600@sfchildrennature.org
SUMMARY:Bean Sprout Family Days @ the Botanical Garden
DESCRIPTION:Come out to the Children’s Garden for Bean Sprouts Family Days to explore\, create\, and play in nature. Hop from log to log at the Stump Jump\, build castles in the sandlot\, and create your own masterpieces in the Fort Forest. Families with children of all ages will find something to enjoy \nEvery Tuesday and Thursday\, 10am-12pm from March 3 – May 21. \nThe Children’s Garden is only a 10 – 20 minute (stroller-friendly!) walk from the Botanical Garden’s Main Gate. \nAdmission to the Botanical Garden is FREE for San Francisco Residents (with proof of residency)\, Members\, School Groups\, and Veterans.\n\nAll programs FREE of charge\, no preregistration required.\n\nLearn more > 
URL:https://sfchildrennature.org/event/bean-sprout-family-days-the-botanical-garden-2-2-2-2-2-4-2-2/2026-04-28/
LOCATION:Children’s Garden at the SF Botanical Garden\, 1199 9th Ave San Francisco\, San Francisco\, 94122\, United States
CATEGORIES:Create-with-Nature,For Families,For Tots,Nature Play
ATTACH;FMTTYPE=image/png:https://sfchildrennature.org/wp-content/uploads/Screen-Shot-2025-02-13-at-5.10.42-PM.png
GEO:37.7666949;-122.4671355
X-APPLE-STRUCTURED-LOCATION;VALUE=URI;X-ADDRESS=Children’s Garden at the SF Botanical Garden 1199 9th Ave San Francisco San Francisco 94122 United States;X-APPLE-RADIUS=500;X-TITLE=1199 9th Ave San Francisco:geo:-122.4671355,37.7666949
END:VEVENT
BEGIN:VEVENT
DTSTART;TZID=America/Los_Angeles:20260430T100000
DTEND;TZID=America/Los_Angeles:20260430T120000
DTSTAMP:20260420T204844
CREATED:20260306T185553Z
LAST-MODIFIED:20260309T172224Z
UID:10005177-1777543200-1777550400@sfchildrennature.org
SUMMARY:Bean Sprout Family Days @ the Botanical Garden
DESCRIPTION:Come out to the Children’s Garden for Bean Sprouts Family Days to explore\, create\, and play in nature. Hop from log to log at the Stump Jump\, build castles in the sandlot\, and create your own masterpieces in the Fort Forest. Families with children of all ages will find something to enjoy \nEvery Tuesday and Thursday\, 10am-12pm from March 3 – May 21. \nThe Children’s Garden is only a 10 – 20 minute (stroller-friendly!) walk from the Botanical Garden’s Main Gate. \nAdmission to the Botanical Garden is FREE for San Francisco Residents (with proof of residency)\, Members\, School Groups\, and Veterans.\n\nAll programs FREE of charge\, no preregistration required.\n\nLearn more > 
URL:https://sfchildrennature.org/event/bean-sprout-family-days-the-botanical-garden-2-2-2-2-2-4-2-2/2026-04-30/
LOCATION:Children’s Garden at the SF Botanical Garden\, 1199 9th Ave San Francisco\, San Francisco\, 94122\, United States
CATEGORIES:Create-with-Nature,For Families,For Tots,Nature Play
ATTACH;FMTTYPE=image/png:https://sfchildrennature.org/wp-content/uploads/Screen-Shot-2025-02-13-at-5.10.42-PM.png
GEO:37.7666949;-122.4671355
X-APPLE-STRUCTURED-LOCATION;VALUE=URI;X-ADDRESS=Children’s Garden at the SF Botanical Garden 1199 9th Ave San Francisco San Francisco 94122 United States;X-APPLE-RADIUS=500;X-TITLE=1199 9th Ave San Francisco:geo:-122.4671355,37.7666949
END:VEVENT
BEGIN:VEVENT
DTSTART;TZID=America/Los_Angeles:20260505T100000
DTEND;TZID=America/Los_Angeles:20260505T120000
DTSTAMP:20260420T204844
CREATED:20260306T185553Z
LAST-MODIFIED:20260309T172224Z
UID:10005178-1777975200-1777982400@sfchildrennature.org
SUMMARY:Bean Sprout Family Days @ the Botanical Garden
DESCRIPTION:Come out to the Children’s Garden for Bean Sprouts Family Days to explore\, create\, and play in nature. Hop from log to log at the Stump Jump\, build castles in the sandlot\, and create your own masterpieces in the Fort Forest. Families with children of all ages will find something to enjoy \nEvery Tuesday and Thursday\, 10am-12pm from March 3 – May 21. \nThe Children’s Garden is only a 10 – 20 minute (stroller-friendly!) walk from the Botanical Garden’s Main Gate. \nAdmission to the Botanical Garden is FREE for San Francisco Residents (with proof of residency)\, Members\, School Groups\, and Veterans.\n\nAll programs FREE of charge\, no preregistration required.\n\nLearn more > 
URL:https://sfchildrennature.org/event/bean-sprout-family-days-the-botanical-garden-2-2-2-2-2-4-2-2/2026-05-05/
LOCATION:Children’s Garden at the SF Botanical Garden\, 1199 9th Ave San Francisco\, San Francisco\, 94122\, United States
CATEGORIES:Create-with-Nature,For Families,For Tots,Nature Play
ATTACH;FMTTYPE=image/png:https://sfchildrennature.org/wp-content/uploads/Screen-Shot-2025-02-13-at-5.10.42-PM.png
GEO:37.7666949;-122.4671355
X-APPLE-STRUCTURED-LOCATION;VALUE=URI;X-ADDRESS=Children’s Garden at the SF Botanical Garden 1199 9th Ave San Francisco San Francisco 94122 United States;X-APPLE-RADIUS=500;X-TITLE=1199 9th Ave San Francisco:geo:-122.4671355,37.7666949
END:VEVENT
BEGIN:VEVENT
DTSTART;TZID=America/Los_Angeles:20260507T100000
DTEND;TZID=America/Los_Angeles:20260507T120000
DTSTAMP:20260420T204844
CREATED:20260306T185553Z
LAST-MODIFIED:20260309T172224Z
UID:10005179-1778148000-1778155200@sfchildrennature.org
SUMMARY:Bean Sprout Family Days @ the Botanical Garden
DESCRIPTION:Come out to the Children’s Garden for Bean Sprouts Family Days to explore\, create\, and play in nature. Hop from log to log at the Stump Jump\, build castles in the sandlot\, and create your own masterpieces in the Fort Forest. Families with children of all ages will find something to enjoy \nEvery Tuesday and Thursday\, 10am-12pm from March 3 – May 21. \nThe Children’s Garden is only a 10 – 20 minute (stroller-friendly!) walk from the Botanical Garden’s Main Gate. \nAdmission to the Botanical Garden is FREE for San Francisco Residents (with proof of residency)\, Members\, School Groups\, and Veterans.\n\nAll programs FREE of charge\, no preregistration required.\n\nLearn more > 
URL:https://sfchildrennature.org/event/bean-sprout-family-days-the-botanical-garden-2-2-2-2-2-4-2-2/2026-05-07/
LOCATION:Children’s Garden at the SF Botanical Garden\, 1199 9th Ave San Francisco\, San Francisco\, 94122\, United States
CATEGORIES:Create-with-Nature,For Families,For Tots,Nature Play
ATTACH;FMTTYPE=image/png:https://sfchildrennature.org/wp-content/uploads/Screen-Shot-2025-02-13-at-5.10.42-PM.png
GEO:37.7666949;-122.4671355
X-APPLE-STRUCTURED-LOCATION;VALUE=URI;X-ADDRESS=Children’s Garden at the SF Botanical Garden 1199 9th Ave San Francisco San Francisco 94122 United States;X-APPLE-RADIUS=500;X-TITLE=1199 9th Ave San Francisco:geo:-122.4671355,37.7666949
END:VEVENT
BEGIN:VEVENT
DTSTART;TZID=America/Los_Angeles:20260512T100000
DTEND;TZID=America/Los_Angeles:20260512T120000
DTSTAMP:20260420T204844
CREATED:20260306T185553Z
LAST-MODIFIED:20260309T172224Z
UID:10005180-1778580000-1778587200@sfchildrennature.org
SUMMARY:Bean Sprout Family Days @ the Botanical Garden
DESCRIPTION:Come out to the Children’s Garden for Bean Sprouts Family Days to explore\, create\, and play in nature. Hop from log to log at the Stump Jump\, build castles in the sandlot\, and create your own masterpieces in the Fort Forest. Families with children of all ages will find something to enjoy \nEvery Tuesday and Thursday\, 10am-12pm from March 3 – May 21. \nThe Children’s Garden is only a 10 – 20 minute (stroller-friendly!) walk from the Botanical Garden’s Main Gate. \nAdmission to the Botanical Garden is FREE for San Francisco Residents (with proof of residency)\, Members\, School Groups\, and Veterans.\n\nAll programs FREE of charge\, no preregistration required.\n\nLearn more > 
URL:https://sfchildrennature.org/event/bean-sprout-family-days-the-botanical-garden-2-2-2-2-2-4-2-2/2026-05-12/
LOCATION:Children’s Garden at the SF Botanical Garden\, 1199 9th Ave San Francisco\, San Francisco\, 94122\, United States
CATEGORIES:Create-with-Nature,For Families,For Tots,Nature Play
ATTACH;FMTTYPE=image/png:https://sfchildrennature.org/wp-content/uploads/Screen-Shot-2025-02-13-at-5.10.42-PM.png
GEO:37.7666949;-122.4671355
X-APPLE-STRUCTURED-LOCATION;VALUE=URI;X-ADDRESS=Children’s Garden at the SF Botanical Garden 1199 9th Ave San Francisco San Francisco 94122 United States;X-APPLE-RADIUS=500;X-TITLE=1199 9th Ave San Francisco:geo:-122.4671355,37.7666949
END:VEVENT
BEGIN:VEVENT
DTSTART;TZID=America/Los_Angeles:20260514T100000
DTEND;TZID=America/Los_Angeles:20260514T120000
DTSTAMP:20260420T204844
CREATED:20260306T185553Z
LAST-MODIFIED:20260309T172224Z
UID:10005181-1778752800-1778760000@sfchildrennature.org
SUMMARY:Bean Sprout Family Days @ the Botanical Garden
DESCRIPTION:Come out to the Children’s Garden for Bean Sprouts Family Days to explore\, create\, and play in nature. Hop from log to log at the Stump Jump\, build castles in the sandlot\, and create your own masterpieces in the Fort Forest. Families with children of all ages will find something to enjoy \nEvery Tuesday and Thursday\, 10am-12pm from March 3 – May 21. \nThe Children’s Garden is only a 10 – 20 minute (stroller-friendly!) walk from the Botanical Garden’s Main Gate. \nAdmission to the Botanical Garden is FREE for San Francisco Residents (with proof of residency)\, Members\, School Groups\, and Veterans.\n\nAll programs FREE of charge\, no preregistration required.\n\nLearn more > 
URL:https://sfchildrennature.org/event/bean-sprout-family-days-the-botanical-garden-2-2-2-2-2-4-2-2/2026-05-14/
LOCATION:Children’s Garden at the SF Botanical Garden\, 1199 9th Ave San Francisco\, San Francisco\, 94122\, United States
CATEGORIES:Create-with-Nature,For Families,For Tots,Nature Play
ATTACH;FMTTYPE=image/png:https://sfchildrennature.org/wp-content/uploads/Screen-Shot-2025-02-13-at-5.10.42-PM.png
GEO:37.7666949;-122.4671355
X-APPLE-STRUCTURED-LOCATION;VALUE=URI;X-ADDRESS=Children’s Garden at the SF Botanical Garden 1199 9th Ave San Francisco San Francisco 94122 United States;X-APPLE-RADIUS=500;X-TITLE=1199 9th Ave San Francisco:geo:-122.4671355,37.7666949
END:VEVENT
BEGIN:VEVENT
DTSTART;TZID=America/Los_Angeles:20260519T100000
DTEND;TZID=America/Los_Angeles:20260519T120000
DTSTAMP:20260420T204844
CREATED:20260306T185553Z
LAST-MODIFIED:20260309T172224Z
UID:10005182-1779184800-1779192000@sfchildrennature.org
SUMMARY:Bean Sprout Family Days @ the Botanical Garden
DESCRIPTION:Come out to the Children’s Garden for Bean Sprouts Family Days to explore\, create\, and play in nature. Hop from log to log at the Stump Jump\, build castles in the sandlot\, and create your own masterpieces in the Fort Forest. Families with children of all ages will find something to enjoy \nEvery Tuesday and Thursday\, 10am-12pm from March 3 – May 21. \nThe Children’s Garden is only a 10 – 20 minute (stroller-friendly!) walk from the Botanical Garden’s Main Gate. \nAdmission to the Botanical Garden is FREE for San Francisco Residents (with proof of residency)\, Members\, School Groups\, and Veterans.\n\nAll programs FREE of charge\, no preregistration required.\n\nLearn more > 
URL:https://sfchildrennature.org/event/bean-sprout-family-days-the-botanical-garden-2-2-2-2-2-4-2-2/2026-05-19/
LOCATION:Children’s Garden at the SF Botanical Garden\, 1199 9th Ave San Francisco\, San Francisco\, 94122\, United States
CATEGORIES:Create-with-Nature,For Families,For Tots,Nature Play
ATTACH;FMTTYPE=image/png:https://sfchildrennature.org/wp-content/uploads/Screen-Shot-2025-02-13-at-5.10.42-PM.png
GEO:37.7666949;-122.4671355
X-APPLE-STRUCTURED-LOCATION;VALUE=URI;X-ADDRESS=Children’s Garden at the SF Botanical Garden 1199 9th Ave San Francisco San Francisco 94122 United States;X-APPLE-RADIUS=500;X-TITLE=1199 9th Ave San Francisco:geo:-122.4671355,37.7666949
END:VEVENT
BEGIN:VEVENT
DTSTART;TZID=America/Los_Angeles:20260521T100000
DTEND;TZID=America/Los_Angeles:20260521T120000
DTSTAMP:20260420T204844
CREATED:20260306T185553Z
LAST-MODIFIED:20260309T172224Z
UID:10005183-1779357600-1779364800@sfchildrennature.org
SUMMARY:Bean Sprout Family Days @ the Botanical Garden
DESCRIPTION:Come out to the Children’s Garden for Bean Sprouts Family Days to explore\, create\, and play in nature. Hop from log to log at the Stump Jump\, build castles in the sandlot\, and create your own masterpieces in the Fort Forest. Families with children of all ages will find something to enjoy \nEvery Tuesday and Thursday\, 10am-12pm from March 3 – May 21. \nThe Children’s Garden is only a 10 – 20 minute (stroller-friendly!) walk from the Botanical Garden’s Main Gate. \nAdmission to the Botanical Garden is FREE for San Francisco Residents (with proof of residency)\, Members\, School Groups\, and Veterans.\n\nAll programs FREE of charge\, no preregistration required.\n\nLearn more > 
URL:https://sfchildrennature.org/event/bean-sprout-family-days-the-botanical-garden-2-2-2-2-2-4-2-2/2026-05-21/
LOCATION:Children’s Garden at the SF Botanical Garden\, 1199 9th Ave San Francisco\, San Francisco\, 94122\, United States
CATEGORIES:Create-with-Nature,For Families,For Tots,Nature Play
ATTACH;FMTTYPE=image/png:https://sfchildrennature.org/wp-content/uploads/Screen-Shot-2025-02-13-at-5.10.42-PM.png
GEO:37.7666949;-122.4671355
X-APPLE-STRUCTURED-LOCATION;VALUE=URI;X-ADDRESS=Children’s Garden at the SF Botanical Garden 1199 9th Ave San Francisco San Francisco 94122 United States;X-APPLE-RADIUS=500;X-TITLE=1199 9th Ave San Francisco:geo:-122.4671355,37.7666949
END:VEVENT
END:VCALENDAR