BEGIN:VCALENDAR
VERSION:2.0
PRODID:-//SF Children &amp; Nature - ECPv6.15.17//NONSGML v1.0//EN
CALSCALE:GREGORIAN
METHOD:PUBLISH
X-ORIGINAL-URL:https://sfchildrennature.org
X-WR-CALDESC:Events for SF Children &amp; Nature
REFRESH-INTERVAL;VALUE=DURATION:PT1H
X-Robots-Tag:noindex
X-PUBLISHED-TTL:PT1H
BEGIN:VTIMEZONE
TZID:America/Los_Angeles
BEGIN:DAYLIGHT
TZOFFSETFROM:-0800
TZOFFSETTO:-0700
TZNAME:PDT
DTSTART:20240310T100000
END:DAYLIGHT
BEGIN:STANDARD
TZOFFSETFROM:-0700
TZOFFSETTO:-0800
TZNAME:PST
DTSTART:20241103T090000
END:STANDARD
BEGIN:DAYLIGHT
TZOFFSETFROM:-0800
TZOFFSETTO:-0700
TZNAME:PDT
DTSTART:20250309T100000
END:DAYLIGHT
BEGIN:STANDARD
TZOFFSETFROM:-0700
TZOFFSETTO:-0800
TZNAME:PST
DTSTART:20251102T090000
END:STANDARD
BEGIN:DAYLIGHT
TZOFFSETFROM:-0800
TZOFFSETTO:-0700
TZNAME:PDT
DTSTART:20260308T100000
END:DAYLIGHT
BEGIN:STANDARD
TZOFFSETFROM:-0700
TZOFFSETTO:-0800
TZNAME:PST
DTSTART:20261101T090000
END:STANDARD
END:VTIMEZONE
BEGIN:VEVENT
DTSTART;TZID=America/Los_Angeles:20250527T100000
DTEND;TZID=America/Los_Angeles:20250527T113000
DTSTAMP:20260420T121626
CREATED:20230516T222732Z
LAST-MODIFIED:20250403T012104Z
UID:10000009-1748340000-1748345400@sfchildrennature.org
SUMMARY:Explore and Learn @ Hilltop Park
DESCRIPTION:Explore and Learn is a program for preschoolers and their caregivers to connect with nature through stories and outdoor activities. The event is FREE and Bayview pre-k youth\, daycares\, and families are highly encouraged to attend from 10AM – noon. Older siblings are welcome too. \nThe May 27th Explore and Learn will be held at Hilltop Playground. \nPlease register here > \nFor more information contact EcoCenter staff at ecocenterhhp@sfgov.org or (415) 676-1394.
URL:https://sfchildrennature.org/event/explore-and-learn-ecocenter-2/
LOCATION:Hilltop Playground\, Newcomb Ave & Whitney Young Circle\, San Francisco\, CA\, 94124\, United States
CATEGORIES:For Families,For Preschools and FCCs,For Tots,Nature Play
ATTACH;FMTTYPE=image/png:https://sfchildrennature.org/wp-content/uploads/Screen-Shot-2025-02-13-at-5.40.52-PM.png
ORGANIZER;CN="EcoCenter at Heron's Head Park":MAILTO:ecocenterhhp@sfgov.org
GEO:37.7331040235;-122.384364199
X-APPLE-STRUCTURED-LOCATION;VALUE=URI;X-ADDRESS=Hilltop Playground Newcomb Ave & Whitney Young Circle San Francisco CA 94124 United States;X-APPLE-RADIUS=500;X-TITLE=Newcomb Ave & Whitney Young Circle:geo:-122.384364199,37.7331040235
END:VEVENT
END:VCALENDAR