BEGIN:VCALENDAR
VERSION:2.0
PRODID:-//SF Children &amp; Nature - ECPv6.15.17//NONSGML v1.0//EN
CALSCALE:GREGORIAN
METHOD:PUBLISH
X-WR-CALNAME:SF Children &amp; Nature
X-ORIGINAL-URL:https://sfchildrennature.org
X-WR-CALDESC:Events for SF Children &amp; Nature
REFRESH-INTERVAL;VALUE=DURATION:PT1H
X-Robots-Tag:noindex
X-PUBLISHED-TTL:PT1H
BEGIN:VTIMEZONE
TZID:America/Los_Angeles
BEGIN:DAYLIGHT
TZOFFSETFROM:-0800
TZOFFSETTO:-0700
TZNAME:PDT
DTSTART:20240310T100000
END:DAYLIGHT
BEGIN:STANDARD
TZOFFSETFROM:-0700
TZOFFSETTO:-0800
TZNAME:PST
DTSTART:20241103T090000
END:STANDARD
BEGIN:DAYLIGHT
TZOFFSETFROM:-0800
TZOFFSETTO:-0700
TZNAME:PDT
DTSTART:20250309T100000
END:DAYLIGHT
BEGIN:STANDARD
TZOFFSETFROM:-0700
TZOFFSETTO:-0800
TZNAME:PST
DTSTART:20251102T090000
END:STANDARD
BEGIN:DAYLIGHT
TZOFFSETFROM:-0800
TZOFFSETTO:-0700
TZNAME:PDT
DTSTART:20260308T100000
END:DAYLIGHT
BEGIN:STANDARD
TZOFFSETFROM:-0700
TZOFFSETTO:-0800
TZNAME:PST
DTSTART:20261101T090000
END:STANDARD
END:VTIMEZONE
BEGIN:VEVENT
DTSTART;TZID=America/Los_Angeles:20250409T140000
DTEND;TZID=America/Los_Angeles:20250409T160000
DTSTAMP:20260424T044134
CREATED:20241030T214723Z
LAST-MODIFIED:20250331T194520Z
UID:10003016-1744207200-1744214400@sfchildrennature.org
SUMMARY:Family Nature Club @ SF Botanical Garden
DESCRIPTION:Join the Cal Academy of Sciences Family Nature Club for a fantastic family-friendly program at the SF Botanical Garden. Embark on a guided flower walk\, dissect beautiful blooms to discover flower anatomy\, and express your creativity through floral art. \nFamily Nature Club offers free\, family-friendly fun outdoor science\, and nature activities to grow connections to the natural world. Attendance must be confirmed the week of the event. \nDon’t miss out on this exciting outdoor adventure. \nLearn more and register > 
URL:https://sfchildrennature.org/event/family-nature-club-california-academy-of-sciences/
LOCATION:Children’s Garden at the SF Botanical Garden\, 1199 9th Ave San Francisco\, San Francisco\, 94122\, United States
CATEGORIES:For Families,For Preschools and FCCs,For Tots,Nature Play
ATTACH;FMTTYPE=image/png:https://sfchildrennature.org/wp-content/uploads/Screen-Shot-2025-03-31-at-12.44.42-PM.png
GEO:37.7666949;-122.4671355
X-APPLE-STRUCTURED-LOCATION;VALUE=URI;X-ADDRESS=Children’s Garden at the SF Botanical Garden 1199 9th Ave San Francisco San Francisco 94122 United States;X-APPLE-RADIUS=500;X-TITLE=1199 9th Ave San Francisco:geo:-122.4671355,37.7666949
END:VEVENT
BEGIN:VEVENT
DTSTART;TZID=America/Los_Angeles:20250412T100000
DTEND;TZID=America/Los_Angeles:20250412T140000
DTSTAMP:20260424T044134
CREATED:20250408T204105Z
LAST-MODIFIED:20250409T180227Z
UID:10003243-1744452000-1744466400@sfchildrennature.org
SUMMARY:Bug Day 2025
DESCRIPTION:Join in the creepy-crawly fun and learn how important these little creatures are to the earth and to our survival here. Kids and their families can make their own fabulous bug-related crafts to take home\, see and touch live insects and arachnids\, take a scientific look at insects through microscopes\, compete in the pollinator relay\, and perhaps even EAT a bug or two. The ever-fabulous Luke Schwartz Trio will provide live music. Bug costumes are encouraged. You may even win a special prize! \nFree Admission & Free Activities from 10 am-2 pm at the Randall Museum\n\nLearn More >>\n 
URL:https://sfchildrennature.org/event/bug-day-2025/
LOCATION:Randall Museum\, Museum Way\, San Francisco\, CA\, 94114\, United States
CATEGORIES:For Families,For Tots,Nature Play
ATTACH;FMTTYPE=image/png:https://sfchildrennature.org/wp-content/uploads/download-1.png
ORGANIZER;CN="Randall Museum":MAILTO:info@randallmuseum.org
GEO:37.7644234;-122.4382085
X-APPLE-STRUCTURED-LOCATION;VALUE=URI;X-ADDRESS=Randall Museum Museum Way San Francisco CA 94114 United States;X-APPLE-RADIUS=500;X-TITLE=Museum Way:geo:-122.4382085,37.7644234
END:VEVENT
BEGIN:VEVENT
DTSTART;TZID=America/Los_Angeles:20250412T113000
DTEND;TZID=America/Los_Angeles:20250412T160000
DTSTAMP:20260424T044134
CREATED:20250408T203747Z
LAST-MODIFIED:20250409T180210Z
UID:10003244-1744457400-1744473600@sfchildrennature.org
SUMMARY:Opening of Ocean Beach Park
DESCRIPTION:Join the Friends of Ocean Beach Park on Saturday April from 11:30am to 4pm to celebrate the Opening Day of SF’s newest coastal park. \nHelp cut the ribbon and enjoy live music and community performances. Learn about the history of the Sunset and speak up about where we go from here! There will also be a guided nature walk and you can check out a free community class like Tai-chi or chair yoga. They’ll also have plenty of kid activities like solar powered bounce houses and big bubbles on the beach! Learn More >> \n 
URL:https://sfchildrennature.org/event/opening-of-ocean-beach-park/
LOCATION:Ocean Beach\, 48th & Noriega\, San Francisco\, CA\, 94117\, United States
CATEGORIES:For Families,For Tots,Nature Play
ATTACH;FMTTYPE=image/png:https://sfchildrennature.org/wp-content/uploads/OpeningDay14x5.png
END:VEVENT
BEGIN:VEVENT
DTSTART;TZID=America/Los_Angeles:20250419T110000
DTEND;TZID=America/Los_Angeles:20250419T160000
DTSTAMP:20260424T044134
CREATED:20250408T204341Z
LAST-MODIFIED:20250408T205201Z
UID:10003247-1745060400-1745078400@sfchildrennature.org
SUMMARY:Spring Fling
DESCRIPTION:Join San Francisco Recreation & Parks for the annual Spring Fling event\, featuring carnival rides\, games\, egg hunt\, live entertainment\, arts and crafts\, and carnival food for sale. \nAmerican Sign Language (ASL) interpretation will be provided at this event. For other accommodations\, email rpdaccess@sfgov.org or call (415) 831-6841 with at least five days’ notice to help ensure availability. \nLearn more >> \n 
URL:https://sfchildrennature.org/event/spring-fling/
LOCATION:Crocker Amazon Club House\, Moscow St. & Italy Ave.\, San Francisco\, 94112
CATEGORIES:For Families,For Tots,Nature Play
ATTACH;FMTTYPE=image/jpeg:https://sfchildrennature.org/wp-content/uploads/spring-fling-poster-2025-11x17-1.jpg
ORGANIZER;CN="San Francisco Recreation & Parks":MAILTO:rpdinfo@sfgov.org
GEO:37.7150529;-122.4323589
X-APPLE-STRUCTURED-LOCATION;VALUE=URI;X-ADDRESS=Crocker Amazon Club House Moscow St. & Italy Ave. San Francisco 94112;X-APPLE-RADIUS=500;X-TITLE=Moscow St. & Italy Ave.:geo:-122.4323589,37.7150529
END:VEVENT
BEGIN:VEVENT
DTSTART;TZID=America/Los_Angeles:20250426T110000
DTEND;TZID=America/Los_Angeles:20250426T130000
DTSTAMP:20260424T044134
CREATED:20241004T204307Z
LAST-MODIFIED:20250403T012214Z
UID:10003010-1745665200-1745672400@sfchildrennature.org
SUMMARY:Family Nature Club @ Lobos Creek
DESCRIPTION:Join the California Academy of Sciences Family Nature Club at the Lobos Creek in the Presidio. Engage in community science with an Academy scientist working to regenerate a critical pollinator\, as part of the ecological restoration of the Presidio’s native sand dune habitat. \nFamily Nature Club offers free\, family-friendly fun outdoor science\, and nature activities to grow connections to the natural world. Attendance must be confirmed the week of the event. \nDon’t miss out on this exciting outdoor adventure. \nLearn more and register > 
URL:https://sfchildrennature.org/event/family-nature-club-the-ecocenter-at-herons-head-park/
LOCATION:CA
CATEGORIES:For Families,For Preschools and FCCs,Nature Play
ATTACH;FMTTYPE=image/png:https://sfchildrennature.org/wp-content/uploads/Screen-Shot-2025-03-31-at-12.44.42-PM.png
END:VEVENT
BEGIN:VEVENT
DTSTART;TZID=America/Los_Angeles:20250427T110000
DTEND;TZID=America/Los_Angeles:20250427T150000
DTSTAMP:20260424T044134
CREATED:20250408T205343Z
LAST-MODIFIED:20250430T213952Z
UID:10003251-1745751600-1745766000@sfchildrennature.org
SUMMARY:Día de los Niños/Día de los Libros
DESCRIPTION:Meet your neighbors\, learn about free community resources\, get a book to keep\, and enjoy a free festival with entertainment\, joy\, and literacy for the whole family. \nCome out to Parque Niños Unidos for a day of fun presented by the SF Public Library in collaboration with Good Samaritan Family Resource Center\, Jumpstart\, KQED\, San Francisco Department of Early Childhood and Wu Yee Children’s Services. \nLearn more >>
URL:https://sfchildrennature.org/event/dia-de-los-ninos-dia-de-los-libros-2/
LOCATION:Parque Niños Unidos\, 3090 23rd St.\, San Francisco\, California\, 94110\, United States
CATEGORIES:Create-with-Nature,For Families,For Tots,Nature Play
ATTACH;FMTTYPE=image/jpeg:https://sfchildrennature.org/wp-content/uploads/Dia-Banner.jpg
GEO:37.7543236;-122.4135437
X-APPLE-STRUCTURED-LOCATION;VALUE=URI;X-ADDRESS=Parque Niños Unidos 3090 23rd St. San Francisco California 94110 United States;X-APPLE-RADIUS=500;X-TITLE=3090 23rd St.:geo:-122.4135437,37.7543236
END:VEVENT
BEGIN:VEVENT
DTSTART;TZID=America/Los_Angeles:20250429T100000
DTEND;TZID=America/Los_Angeles:20250429T113000
DTSTAMP:20260424T044134
CREATED:20250403T012000Z
LAST-MODIFIED:20250403T012000Z
UID:10003242-1745920800-1745926200@sfchildrennature.org
SUMMARY:Explore and Learn @ MLK Park
DESCRIPTION:Explore and Learn is a program for preschoolers and their caregivers to connect with nature through stories and outdoor activities. The event is FREE and Bayview pre-k youth\, daycares\, and families are highly encouraged to attend from 10AM – 11:30AM. Older siblings are welcome too. \nThe April 29th Explore and Learn will be held at MLK Park / K.C. Jones Playground. \nPlease register here > \nFor more information contact EcoCenter staff at ecocenterhhp@sfgov.org or (415) 676-1394.
URL:https://sfchildrennature.org/event/explore-and-learn-mlk-park/
LOCATION:K.C. Jones Playground\, 3rd St & Armstrong Ave\, San Francisco\, 94124\, United States
CATEGORIES:For Families,For Preschools and FCCs,For Tots,Nature Play
ATTACH;FMTTYPE=image/png:https://sfchildrennature.org/wp-content/uploads/Screen-Shot-2025-02-13-at-5.40.52-PM.png
ORGANIZER;CN="EcoCenter at Heron's Head Park":MAILTO:ecocenterhhp@sfgov.org
GEO:37.726964;-122.3935242
X-APPLE-STRUCTURED-LOCATION;VALUE=URI;X-ADDRESS=K.C. Jones Playground 3rd St & Armstrong Ave San Francisco 94124 United States;X-APPLE-RADIUS=500;X-TITLE=3rd St & Armstrong Ave:geo:-122.3935242,37.726964
END:VEVENT
END:VCALENDAR