BEGIN:VCALENDAR
VERSION:2.0
PRODID:-//SF Children &amp; Nature - ECPv6.15.17//NONSGML v1.0//EN
CALSCALE:GREGORIAN
METHOD:PUBLISH
X-WR-CALNAME:SF Children &amp; Nature
X-ORIGINAL-URL:https://sfchildrennature.org
X-WR-CALDESC:Events for SF Children &amp; Nature
REFRESH-INTERVAL;VALUE=DURATION:PT1H
X-Robots-Tag:noindex
X-PUBLISHED-TTL:PT1H
BEGIN:VTIMEZONE
TZID:America/Los_Angeles
BEGIN:DAYLIGHT
TZOFFSETFROM:-0800
TZOFFSETTO:-0700
TZNAME:PDT
DTSTART:20230312T100000
END:DAYLIGHT
BEGIN:STANDARD
TZOFFSETFROM:-0700
TZOFFSETTO:-0800
TZNAME:PST
DTSTART:20231105T090000
END:STANDARD
BEGIN:DAYLIGHT
TZOFFSETFROM:-0800
TZOFFSETTO:-0700
TZNAME:PDT
DTSTART:20240310T100000
END:DAYLIGHT
BEGIN:STANDARD
TZOFFSETFROM:-0700
TZOFFSETTO:-0800
TZNAME:PST
DTSTART:20241103T090000
END:STANDARD
BEGIN:DAYLIGHT
TZOFFSETFROM:-0800
TZOFFSETTO:-0700
TZNAME:PDT
DTSTART:20250309T100000
END:DAYLIGHT
BEGIN:STANDARD
TZOFFSETFROM:-0700
TZOFFSETTO:-0800
TZNAME:PST
DTSTART:20251102T090000
END:STANDARD
END:VTIMEZONE
BEGIN:VEVENT
DTSTART;TZID=America/Los_Angeles:20240806T093000
DTEND;TZID=America/Los_Angeles:20240806T120000
DTSTAMP:20260424T090842
CREATED:20230307T025609Z
LAST-MODIFIED:20251111T183323Z
UID:10000073-1722936600-1722945600@sfchildrennature.org
SUMMARY:Swing into Stories @ Garfield Playground
DESCRIPTION:The Library’s YouthMobile is coming to the park! Movement and play are essential building blocks in fostering literacy and a love of reading. Join us for a high-energy storytime in our beautiful outdoors! \nThe YouthMobile offers a diverse selection of children’s library materials available for check-out with an SFPL library card. From the City’s only kid-focused bookmobile\, we circulate materials\, create library cards and provide the public with information about library services and programs. Come aboard and see what we have! \nTuesdays from 9:30 a.m.–12 noon.  \nStorytime at 10:30 a.m. \n+++ \n1st Tuesday of the month \nGarfield Playground (Treat & 26th Streets) \n2nd Tuesday of the month \nKoret Playground (Golden Gate Park\, by the carousel) \n3rd Tuesday of the month \nHilltop Playground (Newcomb Ave & Whitney Young Circle) \n4th Tuesday of the month \nRedwood Grove Playground (McLaren Park\, 200 John F. Shelley Dr.) \nMore info >
URL:https://sfchildrennature.org/event/swing-into-stories-garfield-playground/2024-08-06/
LOCATION:Garfield Playground\, 3100 26th St\, San Francisco\, CA\, 94110\, United States
CATEGORIES:Create-with-Nature,For Families,For Preschools and FCCs,For Tots
ATTACH;FMTTYPE=image/jpeg:https://sfchildrennature.org/wp-content/uploads/SeingIntoStories.jpeg
GEO:37.7497005627;-122.412071229
X-APPLE-STRUCTURED-LOCATION;VALUE=URI;X-ADDRESS=Garfield Playground 3100 26th St San Francisco CA 94110 United States;X-APPLE-RADIUS=500;X-TITLE=3100 26th St:geo:-122.412071229,37.7497005627
END:VEVENT
BEGIN:VEVENT
DTSTART;TZID=America/Los_Angeles:20240822T150000
DTEND;TZID=America/Los_Angeles:20240822T160000
DTSTAMP:20260424T090842
CREATED:20240710T214750Z
LAST-MODIFIED:20240710T214750Z
UID:10002908-1724338800-1724342400@sfchildrennature.org
SUMMARY:Workshop: DIY Bird Feeder
DESCRIPTION:Join SF Public Library to make a bird feeder from recycled materials. For ages 5 and up. Space limited. \nThursday\, 8/22/2024 from 3pm-4pm at the Excelsior Library Meeting Room \nEmail to reserve your spot: excmgr@sfpl.org \nClick here for more information >>
URL:https://sfchildrennature.org/event/workshop-diy-bird-feeder/
LOCATION:Excelsior Branch Library\, 4400 Mission Street\, San Francisco\, CA\, 94112\, United States
CATEGORIES:Create-with-Nature,For Families,For Preschools and FCCs,Workshops
ATTACH;FMTTYPE=image/jpeg:https://sfchildrennature.org/wp-content/uploads/DIY-Bird-Feeder-SFPL.jpg
GEO:37.7271332;-122.4333545
X-APPLE-STRUCTURED-LOCATION;VALUE=URI;X-ADDRESS=Excelsior Branch Library 4400 Mission Street San Francisco CA 94112 United States;X-APPLE-RADIUS=500;X-TITLE=4400 Mission Street:geo:-122.4333545,37.7271332
END:VEVENT
END:VCALENDAR