BEGIN:VCALENDAR
VERSION:2.0
PRODID:-//SF Children &amp; Nature - ECPv6.15.17//NONSGML v1.0//EN
CALSCALE:GREGORIAN
METHOD:PUBLISH
X-ORIGINAL-URL:https://sfchildrennature.org
X-WR-CALDESC:Events for SF Children &amp; Nature
REFRESH-INTERVAL;VALUE=DURATION:PT1H
X-Robots-Tag:noindex
X-PUBLISHED-TTL:PT1H
BEGIN:VTIMEZONE
TZID:America/Los_Angeles
BEGIN:DAYLIGHT
TZOFFSETFROM:-0800
TZOFFSETTO:-0700
TZNAME:PDT
DTSTART:20230312T100000
END:DAYLIGHT
BEGIN:STANDARD
TZOFFSETFROM:-0700
TZOFFSETTO:-0800
TZNAME:PST
DTSTART:20231105T090000
END:STANDARD
BEGIN:DAYLIGHT
TZOFFSETFROM:-0800
TZOFFSETTO:-0700
TZNAME:PDT
DTSTART:20240310T100000
END:DAYLIGHT
BEGIN:STANDARD
TZOFFSETFROM:-0700
TZOFFSETTO:-0800
TZNAME:PST
DTSTART:20241103T090000
END:STANDARD
BEGIN:DAYLIGHT
TZOFFSETFROM:-0800
TZOFFSETTO:-0700
TZNAME:PDT
DTSTART:20250309T100000
END:DAYLIGHT
BEGIN:STANDARD
TZOFFSETFROM:-0700
TZOFFSETTO:-0800
TZNAME:PST
DTSTART:20251102T090000
END:STANDARD
END:VTIMEZONE
BEGIN:VEVENT
DTSTART;TZID=America/Los_Angeles:20240507T093000
DTEND;TZID=America/Los_Angeles:20240507T120000
DTSTAMP:20260424T030923
CREATED:20230307T025609Z
LAST-MODIFIED:20251111T183323Z
UID:10000070-1715074200-1715083200@sfchildrennature.org
SUMMARY:Swing into Stories @ Garfield Playground
DESCRIPTION:The Library’s YouthMobile is coming to the park! Movement and play are essential building blocks in fostering literacy and a love of reading. Join us for a high-energy storytime in our beautiful outdoors! \nThe YouthMobile offers a diverse selection of children’s library materials available for check-out with an SFPL library card. From the City’s only kid-focused bookmobile\, we circulate materials\, create library cards and provide the public with information about library services and programs. Come aboard and see what we have! \nTuesdays from 9:30 a.m.–12 noon.  \nStorytime at 10:30 a.m. \n+++ \n1st Tuesday of the month \nGarfield Playground (Treat & 26th Streets) \n2nd Tuesday of the month \nKoret Playground (Golden Gate Park\, by the carousel) \n3rd Tuesday of the month \nHilltop Playground (Newcomb Ave & Whitney Young Circle) \n4th Tuesday of the month \nRedwood Grove Playground (McLaren Park\, 200 John F. Shelley Dr.) \nMore info >
URL:https://sfchildrennature.org/event/swing-into-stories-garfield-playground/2024-05-07/
LOCATION:Garfield Playground\, 3100 26th St\, San Francisco\, CA\, 94110\, United States
CATEGORIES:Create-with-Nature,For Families,For Preschools and FCCs,For Tots
ATTACH;FMTTYPE=image/jpeg:https://sfchildrennature.org/wp-content/uploads/SeingIntoStories.jpeg
GEO:37.7497005627;-122.412071229
X-APPLE-STRUCTURED-LOCATION;VALUE=URI;X-ADDRESS=Garfield Playground 3100 26th St San Francisco CA 94110 United States;X-APPLE-RADIUS=500;X-TITLE=3100 26th St:geo:-122.412071229,37.7497005627
END:VEVENT
BEGIN:VEVENT
DTSTART;TZID=America/Los_Angeles:20240525T110000
DTEND;TZID=America/Los_Angeles:20240525T150000
DTSTAMP:20260424T030923
CREATED:20240524T223115Z
LAST-MODIFIED:20240524T223115Z
UID:10002895-1716634800-1716649200@sfchildrennature.org
SUMMARY:American Sign Language Celebration Day for Families
DESCRIPTION:Join Rec and Park\, ASL Love\, the Presidio of San Francisco\, and the San Francisco Parks Alliance for our American Sign Language (ASL) Celebration Day on Saturday\, May 25 from 11 a.m. to 3 p.m. It will take place at the Crissy Field Center (603 Mason Street) in the Presidio and will feature ASL games and activities\, resources\, local vendors\, educational groups and more. \nFor more information\, visit:  ASL Celebration Day for Families
URL:https://sfchildrennature.org/event/american-sign-language-celebration-day-for-families/
LOCATION:Crissy Field Center\, 603 Mason Street\, San Francisco\, CA\, 94129\, United States
CATEGORIES:Create-with-Nature,For Families,For Preschools and FCCs,For Tots,Nature Play
ATTACH;FMTTYPE=image/jpeg:https://sfchildrennature.org/wp-content/uploads/ASL-Celebration-Day-for-Families.jpg
ORGANIZER;CN="San Francisco Recreation & Parks":MAILTO:rpdinfo@sfgov.org
GEO:37.803777;-122.455618
X-APPLE-STRUCTURED-LOCATION;VALUE=URI;X-ADDRESS=Crissy Field Center 603 Mason Street San Francisco CA 94129 United States;X-APPLE-RADIUS=500;X-TITLE=603 Mason Street:geo:-122.455618,37.803777
END:VEVENT
END:VCALENDAR